BEGIN:VCALENDAR
VERSION:2.0
PRODID:-//Diversity Matters NW - ECPv6.15.20//NONSGML v1.0//EN
CALSCALE:GREGORIAN
METHOD:PUBLISH
X-WR-CALNAME:Diversity Matters NW
X-ORIGINAL-URL:https://www.diversitymattersnw.org.uk
X-WR-CALDESC:Events for Diversity Matters NW
REFRESH-INTERVAL;VALUE=DURATION:PT1H
X-Robots-Tag:noindex
X-PUBLISHED-TTL:PT1H
BEGIN:VTIMEZONE
TZID:Europe/London
BEGIN:DAYLIGHT
TZOFFSETFROM:+0000
TZOFFSETTO:+0100
TZNAME:BST
DTSTART:20240331T010000
END:DAYLIGHT
BEGIN:STANDARD
TZOFFSETFROM:+0100
TZOFFSETTO:+0000
TZNAME:GMT
DTSTART:20241027T010000
END:STANDARD
BEGIN:DAYLIGHT
TZOFFSETFROM:+0000
TZOFFSETTO:+0100
TZNAME:BST
DTSTART:20250330T010000
END:DAYLIGHT
BEGIN:STANDARD
TZOFFSETFROM:+0100
TZOFFSETTO:+0000
TZNAME:GMT
DTSTART:20251026T010000
END:STANDARD
BEGIN:DAYLIGHT
TZOFFSETFROM:+0000
TZOFFSETTO:+0100
TZNAME:BST
DTSTART:20260329T010000
END:DAYLIGHT
BEGIN:STANDARD
TZOFFSETFROM:+0100
TZOFFSETTO:+0000
TZNAME:GMT
DTSTART:20261025T010000
END:STANDARD
END:VTIMEZONE
BEGIN:VEVENT
DTSTART;TZID=Europe/London:20251210T110000
DTEND;TZID=Europe/London:20251210T133000
DTSTAMP:20260421T182208
CREATED:20240801T134242Z
LAST-MODIFIED:20240801T134243Z
UID:10004286-1765364400-1765373400@www.diversitymattersnw.org.uk
SUMMARY:Chayer Adda (Men Only)
DESCRIPTION:Time: 11am-1.30pm. Place: Italian Bar\, 4 The Square\, Hyde\, Sk142QR. Come along to our Chayer Adda for freshly homemade chai\, nastha and engage in wellbeing activities\, games and talks. For details contact Shibley: 07946329099 / rilly@diversitymattersnw.org.uk
URL:https://www.diversitymattersnw.org.uk/event/chayer-adda-men-only-2-3-2/2025-12-10/
LOCATION:Hyde Healthy Living Centre (Women Supporting Women)\, 20 Great Norbury Street\, Hyde\, SK14 1BR\, United Kingdom
END:VEVENT
BEGIN:VEVENT
DTSTART;TZID=Europe/London:20251210T100000
DTEND;TZID=Europe/London:20251210T120000
DTSTAMP:20260421T182208
CREATED:20220901T082744Z
LAST-MODIFIED:20240308T143520Z
UID:10002919-1765360800-1765368000@www.diversitymattersnw.org.uk
SUMMARY:Community Learning Hub (Women Only)
DESCRIPTION:Time: 10-12pm. Place: Hyde Healthy Living Centre\, 20 Great Norbury St.\, SK14 1BR. Drop in to use our community laptop and get digital or employment support from our Learning Mentors. For more information\, please contact: Hasina 07591572844 / hasina@diversitymattersnw.org.uk
URL:https://www.diversitymattersnw.org.uk/event/wednesdays-community-learning-hub-women-only/2025-12-10/
LOCATION:Hyde Healthy Living Centre (Women Supporting Women)\, 20 Great Norbury Street\, Hyde\, SK14 1BR\, United Kingdom
END:VEVENT
BEGIN:VEVENT
DTSTART;TZID=Europe/London:20251203T110000
DTEND;TZID=Europe/London:20251203T133000
DTSTAMP:20260421T182208
CREATED:20240801T134242Z
LAST-MODIFIED:20240801T134243Z
UID:10004285-1764759600-1764768600@www.diversitymattersnw.org.uk
SUMMARY:Chayer Adda (Men Only)
DESCRIPTION:Time: 11am-1.30pm. Place: Italian Bar\, 4 The Square\, Hyde\, Sk142QR. Come along to our Chayer Adda for freshly homemade chai\, nastha and engage in wellbeing activities\, games and talks. For details contact Shibley: 07946329099 / rilly@diversitymattersnw.org.uk
URL:https://www.diversitymattersnw.org.uk/event/chayer-adda-men-only-2-3-2/2025-12-03/
LOCATION:Hyde Healthy Living Centre (Women Supporting Women)\, 20 Great Norbury Street\, Hyde\, SK14 1BR\, United Kingdom
END:VEVENT
BEGIN:VEVENT
DTSTART;TZID=Europe/London:20251203T100000
DTEND;TZID=Europe/London:20251203T120000
DTSTAMP:20260421T182208
CREATED:20220901T082744Z
LAST-MODIFIED:20240308T143520Z
UID:10002918-1764756000-1764763200@www.diversitymattersnw.org.uk
SUMMARY:Community Learning Hub (Women Only)
DESCRIPTION:Time: 10-12pm. Place: Hyde Healthy Living Centre\, 20 Great Norbury St.\, SK14 1BR. Drop in to use our community laptop and get digital or employment support from our Learning Mentors. For more information\, please contact: Hasina 07591572844 / hasina@diversitymattersnw.org.uk
URL:https://www.diversitymattersnw.org.uk/event/wednesdays-community-learning-hub-women-only/2025-12-03/
LOCATION:Hyde Healthy Living Centre (Women Supporting Women)\, 20 Great Norbury Street\, Hyde\, SK14 1BR\, United Kingdom
END:VEVENT
BEGIN:VEVENT
DTSTART;TZID=Europe/London:20251126T110000
DTEND;TZID=Europe/London:20251126T133000
DTSTAMP:20260421T182208
CREATED:20240801T134242Z
LAST-MODIFIED:20240801T134243Z
UID:10004284-1764154800-1764163800@www.diversitymattersnw.org.uk
SUMMARY:Chayer Adda (Men Only)
DESCRIPTION:Time: 11am-1.30pm. Place: Italian Bar\, 4 The Square\, Hyde\, Sk142QR. Come along to our Chayer Adda for freshly homemade chai\, nastha and engage in wellbeing activities\, games and talks. For details contact Shibley: 07946329099 / rilly@diversitymattersnw.org.uk
URL:https://www.diversitymattersnw.org.uk/event/chayer-adda-men-only-2-3-2/2025-11-26/
LOCATION:Hyde Healthy Living Centre (Women Supporting Women)\, 20 Great Norbury Street\, Hyde\, SK14 1BR\, United Kingdom
END:VEVENT
BEGIN:VEVENT
DTSTART;TZID=Europe/London:20251126T100000
DTEND;TZID=Europe/London:20251126T120000
DTSTAMP:20260421T182208
CREATED:20220901T082744Z
LAST-MODIFIED:20240308T143520Z
UID:10002917-1764151200-1764158400@www.diversitymattersnw.org.uk
SUMMARY:Community Learning Hub (Women Only)
DESCRIPTION:Time: 10-12pm. Place: Hyde Healthy Living Centre\, 20 Great Norbury St.\, SK14 1BR. Drop in to use our community laptop and get digital or employment support from our Learning Mentors. For more information\, please contact: Hasina 07591572844 / hasina@diversitymattersnw.org.uk
URL:https://www.diversitymattersnw.org.uk/event/wednesdays-community-learning-hub-women-only/2025-11-26/
LOCATION:Hyde Healthy Living Centre (Women Supporting Women)\, 20 Great Norbury Street\, Hyde\, SK14 1BR\, United Kingdom
END:VEVENT
BEGIN:VEVENT
DTSTART;TZID=Europe/London:20251119T110000
DTEND;TZID=Europe/London:20251119T133000
DTSTAMP:20260421T182208
CREATED:20240801T134242Z
LAST-MODIFIED:20240801T134243Z
UID:10004283-1763550000-1763559000@www.diversitymattersnw.org.uk
SUMMARY:Chayer Adda (Men Only)
DESCRIPTION:Time: 11am-1.30pm. Place: Italian Bar\, 4 The Square\, Hyde\, Sk142QR. Come along to our Chayer Adda for freshly homemade chai\, nastha and engage in wellbeing activities\, games and talks. For details contact Shibley: 07946329099 / rilly@diversitymattersnw.org.uk
URL:https://www.diversitymattersnw.org.uk/event/chayer-adda-men-only-2-3-2/2025-11-19/
LOCATION:Hyde Healthy Living Centre (Women Supporting Women)\, 20 Great Norbury Street\, Hyde\, SK14 1BR\, United Kingdom
END:VEVENT
BEGIN:VEVENT
DTSTART;TZID=Europe/London:20251119T100000
DTEND;TZID=Europe/London:20251119T120000
DTSTAMP:20260421T182208
CREATED:20220901T082744Z
LAST-MODIFIED:20240308T143520Z
UID:10002916-1763546400-1763553600@www.diversitymattersnw.org.uk
SUMMARY:Community Learning Hub (Women Only)
DESCRIPTION:Time: 10-12pm. Place: Hyde Healthy Living Centre\, 20 Great Norbury St.\, SK14 1BR. Drop in to use our community laptop and get digital or employment support from our Learning Mentors. For more information\, please contact: Hasina 07591572844 / hasina@diversitymattersnw.org.uk
URL:https://www.diversitymattersnw.org.uk/event/wednesdays-community-learning-hub-women-only/2025-11-19/
LOCATION:Hyde Healthy Living Centre (Women Supporting Women)\, 20 Great Norbury Street\, Hyde\, SK14 1BR\, United Kingdom
END:VEVENT
BEGIN:VEVENT
DTSTART;TZID=Europe/London:20251112T110000
DTEND;TZID=Europe/London:20251112T133000
DTSTAMP:20260421T182208
CREATED:20240801T134242Z
LAST-MODIFIED:20240801T134243Z
UID:10004282-1762945200-1762954200@www.diversitymattersnw.org.uk
SUMMARY:Chayer Adda (Men Only)
DESCRIPTION:Time: 11am-1.30pm. Place: Italian Bar\, 4 The Square\, Hyde\, Sk142QR. Come along to our Chayer Adda for freshly homemade chai\, nastha and engage in wellbeing activities\, games and talks. For details contact Shibley: 07946329099 / rilly@diversitymattersnw.org.uk
URL:https://www.diversitymattersnw.org.uk/event/chayer-adda-men-only-2-3-2/2025-11-12/
LOCATION:Hyde Healthy Living Centre (Women Supporting Women)\, 20 Great Norbury Street\, Hyde\, SK14 1BR\, United Kingdom
END:VEVENT
BEGIN:VEVENT
DTSTART;TZID=Europe/London:20251112T100000
DTEND;TZID=Europe/London:20251112T120000
DTSTAMP:20260421T182208
CREATED:20220901T082744Z
LAST-MODIFIED:20240308T143520Z
UID:10002915-1762941600-1762948800@www.diversitymattersnw.org.uk
SUMMARY:Community Learning Hub (Women Only)
DESCRIPTION:Time: 10-12pm. Place: Hyde Healthy Living Centre\, 20 Great Norbury St.\, SK14 1BR. Drop in to use our community laptop and get digital or employment support from our Learning Mentors. For more information\, please contact: Hasina 07591572844 / hasina@diversitymattersnw.org.uk
URL:https://www.diversitymattersnw.org.uk/event/wednesdays-community-learning-hub-women-only/2025-11-12/
LOCATION:Hyde Healthy Living Centre (Women Supporting Women)\, 20 Great Norbury Street\, Hyde\, SK14 1BR\, United Kingdom
END:VEVENT
BEGIN:VEVENT
DTSTART;TZID=Europe/London:20251105T110000
DTEND;TZID=Europe/London:20251105T133000
DTSTAMP:20260421T182208
CREATED:20240801T134242Z
LAST-MODIFIED:20240801T134243Z
UID:10004281-1762340400-1762349400@www.diversitymattersnw.org.uk
SUMMARY:Chayer Adda (Men Only)
DESCRIPTION:Time: 11am-1.30pm. Place: Italian Bar\, 4 The Square\, Hyde\, Sk142QR. Come along to our Chayer Adda for freshly homemade chai\, nastha and engage in wellbeing activities\, games and talks. For details contact Shibley: 07946329099 / rilly@diversitymattersnw.org.uk
URL:https://www.diversitymattersnw.org.uk/event/chayer-adda-men-only-2-3-2/2025-11-05/
LOCATION:Hyde Healthy Living Centre (Women Supporting Women)\, 20 Great Norbury Street\, Hyde\, SK14 1BR\, United Kingdom
END:VEVENT
BEGIN:VEVENT
DTSTART;TZID=Europe/London:20251105T100000
DTEND;TZID=Europe/London:20251105T120000
DTSTAMP:20260421T182208
CREATED:20220901T082744Z
LAST-MODIFIED:20240308T143520Z
UID:10002914-1762336800-1762344000@www.diversitymattersnw.org.uk
SUMMARY:Community Learning Hub (Women Only)
DESCRIPTION:Time: 10-12pm. Place: Hyde Healthy Living Centre\, 20 Great Norbury St.\, SK14 1BR. Drop in to use our community laptop and get digital or employment support from our Learning Mentors. For more information\, please contact: Hasina 07591572844 / hasina@diversitymattersnw.org.uk
URL:https://www.diversitymattersnw.org.uk/event/wednesdays-community-learning-hub-women-only/2025-11-05/
LOCATION:Hyde Healthy Living Centre (Women Supporting Women)\, 20 Great Norbury Street\, Hyde\, SK14 1BR\, United Kingdom
END:VEVENT
BEGIN:VEVENT
DTSTART;TZID=Europe/London:20251029T110000
DTEND;TZID=Europe/London:20251029T133000
DTSTAMP:20260421T182208
CREATED:20240801T134242Z
LAST-MODIFIED:20240801T134243Z
UID:10004280-1761735600-1761744600@www.diversitymattersnw.org.uk
SUMMARY:Chayer Adda (Men Only)
DESCRIPTION:Time: 11am-1.30pm. Place: Italian Bar\, 4 The Square\, Hyde\, Sk142QR. Come along to our Chayer Adda for freshly homemade chai\, nastha and engage in wellbeing activities\, games and talks. For details contact Shibley: 07946329099 / rilly@diversitymattersnw.org.uk
URL:https://www.diversitymattersnw.org.uk/event/chayer-adda-men-only-2-3-2/2025-10-29/
LOCATION:Hyde Healthy Living Centre (Women Supporting Women)\, 20 Great Norbury Street\, Hyde\, SK14 1BR\, United Kingdom
END:VEVENT
BEGIN:VEVENT
DTSTART;TZID=Europe/London:20251029T100000
DTEND;TZID=Europe/London:20251029T120000
DTSTAMP:20260421T182208
CREATED:20220901T082744Z
LAST-MODIFIED:20240308T143520Z
UID:10002913-1761732000-1761739200@www.diversitymattersnw.org.uk
SUMMARY:Community Learning Hub (Women Only)
DESCRIPTION:Time: 10-12pm. Place: Hyde Healthy Living Centre\, 20 Great Norbury St.\, SK14 1BR. Drop in to use our community laptop and get digital or employment support from our Learning Mentors. For more information\, please contact: Hasina 07591572844 / hasina@diversitymattersnw.org.uk
URL:https://www.diversitymattersnw.org.uk/event/wednesdays-community-learning-hub-women-only/2025-10-29/
LOCATION:Hyde Healthy Living Centre (Women Supporting Women)\, 20 Great Norbury Street\, Hyde\, SK14 1BR\, United Kingdom
END:VEVENT
BEGIN:VEVENT
DTSTART;TZID=Europe/London:20251022T110000
DTEND;TZID=Europe/London:20251022T133000
DTSTAMP:20260421T182208
CREATED:20240801T134242Z
LAST-MODIFIED:20240801T134243Z
UID:10004279-1761130800-1761139800@www.diversitymattersnw.org.uk
SUMMARY:Chayer Adda (Men Only)
DESCRIPTION:Time: 11am-1.30pm. Place: Italian Bar\, 4 The Square\, Hyde\, Sk142QR. Come along to our Chayer Adda for freshly homemade chai\, nastha and engage in wellbeing activities\, games and talks. For details contact Shibley: 07946329099 / rilly@diversitymattersnw.org.uk
URL:https://www.diversitymattersnw.org.uk/event/chayer-adda-men-only-2-3-2/2025-10-22/
LOCATION:Hyde Healthy Living Centre (Women Supporting Women)\, 20 Great Norbury Street\, Hyde\, SK14 1BR\, United Kingdom
END:VEVENT
BEGIN:VEVENT
DTSTART;TZID=Europe/London:20251022T100000
DTEND;TZID=Europe/London:20251022T120000
DTSTAMP:20260421T182208
CREATED:20220901T082744Z
LAST-MODIFIED:20240308T143520Z
UID:10002912-1761127200-1761134400@www.diversitymattersnw.org.uk
SUMMARY:Community Learning Hub (Women Only)
DESCRIPTION:Time: 10-12pm. Place: Hyde Healthy Living Centre\, 20 Great Norbury St.\, SK14 1BR. Drop in to use our community laptop and get digital or employment support from our Learning Mentors. For more information\, please contact: Hasina 07591572844 / hasina@diversitymattersnw.org.uk
URL:https://www.diversitymattersnw.org.uk/event/wednesdays-community-learning-hub-women-only/2025-10-22/
LOCATION:Hyde Healthy Living Centre (Women Supporting Women)\, 20 Great Norbury Street\, Hyde\, SK14 1BR\, United Kingdom
END:VEVENT
BEGIN:VEVENT
DTSTART;TZID=Europe/London:20251015T110000
DTEND;TZID=Europe/London:20251015T133000
DTSTAMP:20260421T182208
CREATED:20240801T134242Z
LAST-MODIFIED:20240801T134243Z
UID:10004278-1760526000-1760535000@www.diversitymattersnw.org.uk
SUMMARY:Chayer Adda (Men Only)
DESCRIPTION:Time: 11am-1.30pm. Place: Italian Bar\, 4 The Square\, Hyde\, Sk142QR. Come along to our Chayer Adda for freshly homemade chai\, nastha and engage in wellbeing activities\, games and talks. For details contact Shibley: 07946329099 / rilly@diversitymattersnw.org.uk
URL:https://www.diversitymattersnw.org.uk/event/chayer-adda-men-only-2-3-2/2025-10-15/
LOCATION:Hyde Healthy Living Centre (Women Supporting Women)\, 20 Great Norbury Street\, Hyde\, SK14 1BR\, United Kingdom
END:VEVENT
BEGIN:VEVENT
DTSTART;TZID=Europe/London:20251015T100000
DTEND;TZID=Europe/London:20251015T120000
DTSTAMP:20260421T182208
CREATED:20220901T082744Z
LAST-MODIFIED:20240308T143520Z
UID:10002911-1760522400-1760529600@www.diversitymattersnw.org.uk
SUMMARY:Community Learning Hub (Women Only)
DESCRIPTION:Time: 10-12pm. Place: Hyde Healthy Living Centre\, 20 Great Norbury St.\, SK14 1BR. Drop in to use our community laptop and get digital or employment support from our Learning Mentors. For more information\, please contact: Hasina 07591572844 / hasina@diversitymattersnw.org.uk
URL:https://www.diversitymattersnw.org.uk/event/wednesdays-community-learning-hub-women-only/2025-10-15/
LOCATION:Hyde Healthy Living Centre (Women Supporting Women)\, 20 Great Norbury Street\, Hyde\, SK14 1BR\, United Kingdom
END:VEVENT
BEGIN:VEVENT
DTSTART;TZID=Europe/London:20251008T110000
DTEND;TZID=Europe/London:20251008T133000
DTSTAMP:20260421T182208
CREATED:20240801T134242Z
LAST-MODIFIED:20240801T134243Z
UID:10004277-1759921200-1759930200@www.diversitymattersnw.org.uk
SUMMARY:Chayer Adda (Men Only)
DESCRIPTION:Time: 11am-1.30pm. Place: Italian Bar\, 4 The Square\, Hyde\, Sk142QR. Come along to our Chayer Adda for freshly homemade chai\, nastha and engage in wellbeing activities\, games and talks. For details contact Shibley: 07946329099 / rilly@diversitymattersnw.org.uk
URL:https://www.diversitymattersnw.org.uk/event/chayer-adda-men-only-2-3-2/2025-10-08/
LOCATION:Hyde Healthy Living Centre (Women Supporting Women)\, 20 Great Norbury Street\, Hyde\, SK14 1BR\, United Kingdom
END:VEVENT
BEGIN:VEVENT
DTSTART;TZID=Europe/London:20251008T100000
DTEND;TZID=Europe/London:20251008T120000
DTSTAMP:20260421T182208
CREATED:20220901T082744Z
LAST-MODIFIED:20240308T143520Z
UID:10002910-1759917600-1759924800@www.diversitymattersnw.org.uk
SUMMARY:Community Learning Hub (Women Only)
DESCRIPTION:Time: 10-12pm. Place: Hyde Healthy Living Centre\, 20 Great Norbury St.\, SK14 1BR. Drop in to use our community laptop and get digital or employment support from our Learning Mentors. For more information\, please contact: Hasina 07591572844 / hasina@diversitymattersnw.org.uk
URL:https://www.diversitymattersnw.org.uk/event/wednesdays-community-learning-hub-women-only/2025-10-08/
LOCATION:Hyde Healthy Living Centre (Women Supporting Women)\, 20 Great Norbury Street\, Hyde\, SK14 1BR\, United Kingdom
END:VEVENT
BEGIN:VEVENT
DTSTART;TZID=Europe/London:20251001T110000
DTEND;TZID=Europe/London:20251001T133000
DTSTAMP:20260421T182208
CREATED:20240801T134242Z
LAST-MODIFIED:20240801T134243Z
UID:10004276-1759316400-1759325400@www.diversitymattersnw.org.uk
SUMMARY:Chayer Adda (Men Only)
DESCRIPTION:Time: 11am-1.30pm. Place: Italian Bar\, 4 The Square\, Hyde\, Sk142QR. Come along to our Chayer Adda for freshly homemade chai\, nastha and engage in wellbeing activities\, games and talks. For details contact Shibley: 07946329099 / rilly@diversitymattersnw.org.uk
URL:https://www.diversitymattersnw.org.uk/event/chayer-adda-men-only-2-3-2/2025-10-01/
LOCATION:Hyde Healthy Living Centre (Women Supporting Women)\, 20 Great Norbury Street\, Hyde\, SK14 1BR\, United Kingdom
END:VEVENT
BEGIN:VEVENT
DTSTART;TZID=Europe/London:20251001T100000
DTEND;TZID=Europe/London:20251001T120000
DTSTAMP:20260421T182208
CREATED:20220901T082744Z
LAST-MODIFIED:20240308T143520Z
UID:10002909-1759312800-1759320000@www.diversitymattersnw.org.uk
SUMMARY:Community Learning Hub (Women Only)
DESCRIPTION:Time: 10-12pm. Place: Hyde Healthy Living Centre\, 20 Great Norbury St.\, SK14 1BR. Drop in to use our community laptop and get digital or employment support from our Learning Mentors. For more information\, please contact: Hasina 07591572844 / hasina@diversitymattersnw.org.uk
URL:https://www.diversitymattersnw.org.uk/event/wednesdays-community-learning-hub-women-only/2025-10-01/
LOCATION:Hyde Healthy Living Centre (Women Supporting Women)\, 20 Great Norbury Street\, Hyde\, SK14 1BR\, United Kingdom
END:VEVENT
BEGIN:VEVENT
DTSTART;TZID=Europe/London:20250924T110000
DTEND;TZID=Europe/London:20250924T133000
DTSTAMP:20260421T182208
CREATED:20240801T134242Z
LAST-MODIFIED:20240801T134243Z
UID:10004275-1758711600-1758720600@www.diversitymattersnw.org.uk
SUMMARY:Chayer Adda (Men Only)
DESCRIPTION:Time: 11am-1.30pm. Place: Italian Bar\, 4 The Square\, Hyde\, Sk142QR. Come along to our Chayer Adda for freshly homemade chai\, nastha and engage in wellbeing activities\, games and talks. For details contact Shibley: 07946329099 / rilly@diversitymattersnw.org.uk
URL:https://www.diversitymattersnw.org.uk/event/chayer-adda-men-only-2-3-2/2025-09-24/
LOCATION:Hyde Healthy Living Centre (Women Supporting Women)\, 20 Great Norbury Street\, Hyde\, SK14 1BR\, United Kingdom
END:VEVENT
BEGIN:VEVENT
DTSTART;TZID=Europe/London:20250924T100000
DTEND;TZID=Europe/London:20250924T120000
DTSTAMP:20260421T182209
CREATED:20220901T082744Z
LAST-MODIFIED:20240308T143520Z
UID:10002908-1758708000-1758715200@www.diversitymattersnw.org.uk
SUMMARY:Community Learning Hub (Women Only)
DESCRIPTION:Time: 10-12pm. Place: Hyde Healthy Living Centre\, 20 Great Norbury St.\, SK14 1BR. Drop in to use our community laptop and get digital or employment support from our Learning Mentors. For more information\, please contact: Hasina 07591572844 / hasina@diversitymattersnw.org.uk
URL:https://www.diversitymattersnw.org.uk/event/wednesdays-community-learning-hub-women-only/2025-09-24/
LOCATION:Hyde Healthy Living Centre (Women Supporting Women)\, 20 Great Norbury Street\, Hyde\, SK14 1BR\, United Kingdom
END:VEVENT
BEGIN:VEVENT
DTSTART;TZID=Europe/London:20250917T110000
DTEND;TZID=Europe/London:20250917T133000
DTSTAMP:20260421T182209
CREATED:20240801T134242Z
LAST-MODIFIED:20240801T134243Z
UID:10004274-1758106800-1758115800@www.diversitymattersnw.org.uk
SUMMARY:Chayer Adda (Men Only)
DESCRIPTION:Time: 11am-1.30pm. Place: Italian Bar\, 4 The Square\, Hyde\, Sk142QR. Come along to our Chayer Adda for freshly homemade chai\, nastha and engage in wellbeing activities\, games and talks. For details contact Shibley: 07946329099 / rilly@diversitymattersnw.org.uk
URL:https://www.diversitymattersnw.org.uk/event/chayer-adda-men-only-2-3-2/2025-09-17/
LOCATION:Hyde Healthy Living Centre (Women Supporting Women)\, 20 Great Norbury Street\, Hyde\, SK14 1BR\, United Kingdom
END:VEVENT
BEGIN:VEVENT
DTSTART;TZID=Europe/London:20250917T100000
DTEND;TZID=Europe/London:20250917T120000
DTSTAMP:20260421T182209
CREATED:20220901T082744Z
LAST-MODIFIED:20240308T143520Z
UID:10002907-1758103200-1758110400@www.diversitymattersnw.org.uk
SUMMARY:Community Learning Hub (Women Only)
DESCRIPTION:Time: 10-12pm. Place: Hyde Healthy Living Centre\, 20 Great Norbury St.\, SK14 1BR. Drop in to use our community laptop and get digital or employment support from our Learning Mentors. For more information\, please contact: Hasina 07591572844 / hasina@diversitymattersnw.org.uk
URL:https://www.diversitymattersnw.org.uk/event/wednesdays-community-learning-hub-women-only/2025-09-17/
LOCATION:Hyde Healthy Living Centre (Women Supporting Women)\, 20 Great Norbury Street\, Hyde\, SK14 1BR\, United Kingdom
END:VEVENT
BEGIN:VEVENT
DTSTART;TZID=Europe/London:20250910T110000
DTEND;TZID=Europe/London:20250910T133000
DTSTAMP:20260421T182209
CREATED:20240801T134242Z
LAST-MODIFIED:20240801T134243Z
UID:10004273-1757502000-1757511000@www.diversitymattersnw.org.uk
SUMMARY:Chayer Adda (Men Only)
DESCRIPTION:Time: 11am-1.30pm. Place: Italian Bar\, 4 The Square\, Hyde\, Sk142QR. Come along to our Chayer Adda for freshly homemade chai\, nastha and engage in wellbeing activities\, games and talks. For details contact Shibley: 07946329099 / rilly@diversitymattersnw.org.uk
URL:https://www.diversitymattersnw.org.uk/event/chayer-adda-men-only-2-3-2/2025-09-10/
LOCATION:Hyde Healthy Living Centre (Women Supporting Women)\, 20 Great Norbury Street\, Hyde\, SK14 1BR\, United Kingdom
END:VEVENT
BEGIN:VEVENT
DTSTART;TZID=Europe/London:20250910T100000
DTEND;TZID=Europe/London:20250910T120000
DTSTAMP:20260421T182209
CREATED:20220901T082744Z
LAST-MODIFIED:20240308T143520Z
UID:10002906-1757498400-1757505600@www.diversitymattersnw.org.uk
SUMMARY:Community Learning Hub (Women Only)
DESCRIPTION:Time: 10-12pm. Place: Hyde Healthy Living Centre\, 20 Great Norbury St.\, SK14 1BR. Drop in to use our community laptop and get digital or employment support from our Learning Mentors. For more information\, please contact: Hasina 07591572844 / hasina@diversitymattersnw.org.uk
URL:https://www.diversitymattersnw.org.uk/event/wednesdays-community-learning-hub-women-only/2025-09-10/
LOCATION:Hyde Healthy Living Centre (Women Supporting Women)\, 20 Great Norbury Street\, Hyde\, SK14 1BR\, United Kingdom
END:VEVENT
BEGIN:VEVENT
DTSTART;TZID=Europe/London:20250903T110000
DTEND;TZID=Europe/London:20250903T133000
DTSTAMP:20260421T182209
CREATED:20240801T134242Z
LAST-MODIFIED:20240801T134243Z
UID:10004272-1756897200-1756906200@www.diversitymattersnw.org.uk
SUMMARY:Chayer Adda (Men Only)
DESCRIPTION:Time: 11am-1.30pm. Place: Italian Bar\, 4 The Square\, Hyde\, Sk142QR. Come along to our Chayer Adda for freshly homemade chai\, nastha and engage in wellbeing activities\, games and talks. For details contact Shibley: 07946329099 / rilly@diversitymattersnw.org.uk
URL:https://www.diversitymattersnw.org.uk/event/chayer-adda-men-only-2-3-2/2025-09-03/
LOCATION:Hyde Healthy Living Centre (Women Supporting Women)\, 20 Great Norbury Street\, Hyde\, SK14 1BR\, United Kingdom
END:VEVENT
BEGIN:VEVENT
DTSTART;TZID=Europe/London:20250903T100000
DTEND;TZID=Europe/London:20250903T120000
DTSTAMP:20260421T182209
CREATED:20220901T082744Z
LAST-MODIFIED:20240308T143520Z
UID:10002905-1756893600-1756900800@www.diversitymattersnw.org.uk
SUMMARY:Community Learning Hub (Women Only)
DESCRIPTION:Time: 10-12pm. Place: Hyde Healthy Living Centre\, 20 Great Norbury St.\, SK14 1BR. Drop in to use our community laptop and get digital or employment support from our Learning Mentors. For more information\, please contact: Hasina 07591572844 / hasina@diversitymattersnw.org.uk
URL:https://www.diversitymattersnw.org.uk/event/wednesdays-community-learning-hub-women-only/2025-09-03/
LOCATION:Hyde Healthy Living Centre (Women Supporting Women)\, 20 Great Norbury Street\, Hyde\, SK14 1BR\, United Kingdom
END:VEVENT
END:VCALENDAR