BEGIN:VCALENDAR
VERSION:2.0
PRODID:-//Diversity Matters NW - ECPv6.15.20//NONSGML v1.0//EN
CALSCALE:GREGORIAN
METHOD:PUBLISH
X-ORIGINAL-URL:https://www.diversitymattersnw.org.uk
X-WR-CALDESC:Events for Diversity Matters NW
REFRESH-INTERVAL;VALUE=DURATION:PT1H
X-Robots-Tag:noindex
X-PUBLISHED-TTL:PT1H
BEGIN:VTIMEZONE
TZID:Europe/London
BEGIN:DAYLIGHT
TZOFFSETFROM:+0000
TZOFFSETTO:+0100
TZNAME:BST
DTSTART:20250330T010000
END:DAYLIGHT
BEGIN:STANDARD
TZOFFSETFROM:+0100
TZOFFSETTO:+0000
TZNAME:GMT
DTSTART:20251026T010000
END:STANDARD
BEGIN:DAYLIGHT
TZOFFSETFROM:+0000
TZOFFSETTO:+0100
TZNAME:BST
DTSTART:20260329T010000
END:DAYLIGHT
BEGIN:STANDARD
TZOFFSETFROM:+0100
TZOFFSETTO:+0000
TZNAME:GMT
DTSTART:20261025T010000
END:STANDARD
BEGIN:DAYLIGHT
TZOFFSETFROM:+0000
TZOFFSETTO:+0100
TZNAME:BST
DTSTART:20270328T010000
END:DAYLIGHT
BEGIN:STANDARD
TZOFFSETFROM:+0100
TZOFFSETTO:+0000
TZNAME:GMT
DTSTART:20271031T010000
END:STANDARD
END:VTIMEZONE
BEGIN:VEVENT
DTSTART;TZID=Europe/London:20260422T110000
DTEND;TZID=Europe/London:20260422T133000
DTSTAMP:20260423T100510
CREATED:20240801T134242Z
LAST-MODIFIED:20240801T134243Z
UID:10004305-1776855600-1776864600@www.diversitymattersnw.org.uk
SUMMARY:Chayer Adda (Men Only)
DESCRIPTION:Time: 11am-1.30pm. Place: Italian Bar\, 4 The Square\, Hyde\, Sk142QR. Come along to our Chayer Adda for freshly homemade chai\, nastha and engage in wellbeing activities\, games and talks. For details contact Shibley: 07946329099 / rilly@diversitymattersnw.org.uk
URL:https://www.diversitymattersnw.org.uk/event/chayer-adda-men-only-2-3-2/2026-04-22/
LOCATION:Hyde Healthy Living Centre (Women Supporting Women)\, 20 Great Norbury Street\, Hyde\, SK14 1BR\, United Kingdom
END:VEVENT
BEGIN:VEVENT
DTSTART;TZID=Europe/London:20260422T100000
DTEND;TZID=Europe/London:20260422T120000
DTSTAMP:20260423T100510
CREATED:20220901T082744Z
LAST-MODIFIED:20240308T143520Z
UID:10002938-1776852000-1776859200@www.diversitymattersnw.org.uk
SUMMARY:Community Learning Hub (Women Only)
DESCRIPTION:Time: 10-12pm. Place: Hyde Healthy Living Centre\, 20 Great Norbury St.\, SK14 1BR. Drop in to use our community laptop and get digital or employment support from our Learning Mentors. For more information\, please contact: Hasina 07591572844 / hasina@diversitymattersnw.org.uk
URL:https://www.diversitymattersnw.org.uk/event/wednesdays-community-learning-hub-women-only/2026-04-22/
LOCATION:Hyde Healthy Living Centre (Women Supporting Women)\, 20 Great Norbury Street\, Hyde\, SK14 1BR\, United Kingdom
END:VEVENT
BEGIN:VEVENT
DTSTART;TZID=Europe/London:20260415T110000
DTEND;TZID=Europe/London:20260415T133000
DTSTAMP:20260423T100510
CREATED:20240801T134242Z
LAST-MODIFIED:20240801T134243Z
UID:10004304-1776250800-1776259800@www.diversitymattersnw.org.uk
SUMMARY:Chayer Adda (Men Only)
DESCRIPTION:Time: 11am-1.30pm. Place: Italian Bar\, 4 The Square\, Hyde\, Sk142QR. Come along to our Chayer Adda for freshly homemade chai\, nastha and engage in wellbeing activities\, games and talks. For details contact Shibley: 07946329099 / rilly@diversitymattersnw.org.uk
URL:https://www.diversitymattersnw.org.uk/event/chayer-adda-men-only-2-3-2/2026-04-15/
LOCATION:Hyde Healthy Living Centre (Women Supporting Women)\, 20 Great Norbury Street\, Hyde\, SK14 1BR\, United Kingdom
END:VEVENT
BEGIN:VEVENT
DTSTART;TZID=Europe/London:20260415T100000
DTEND;TZID=Europe/London:20260415T120000
DTSTAMP:20260423T100510
CREATED:20220901T082744Z
LAST-MODIFIED:20240308T143520Z
UID:10002937-1776247200-1776254400@www.diversitymattersnw.org.uk
SUMMARY:Community Learning Hub (Women Only)
DESCRIPTION:Time: 10-12pm. Place: Hyde Healthy Living Centre\, 20 Great Norbury St.\, SK14 1BR. Drop in to use our community laptop and get digital or employment support from our Learning Mentors. For more information\, please contact: Hasina 07591572844 / hasina@diversitymattersnw.org.uk
URL:https://www.diversitymattersnw.org.uk/event/wednesdays-community-learning-hub-women-only/2026-04-15/
LOCATION:Hyde Healthy Living Centre (Women Supporting Women)\, 20 Great Norbury Street\, Hyde\, SK14 1BR\, United Kingdom
END:VEVENT
BEGIN:VEVENT
DTSTART;TZID=Europe/London:20260408T110000
DTEND;TZID=Europe/London:20260408T133000
DTSTAMP:20260423T100510
CREATED:20240801T134242Z
LAST-MODIFIED:20240801T134243Z
UID:10004303-1775646000-1775655000@www.diversitymattersnw.org.uk
SUMMARY:Chayer Adda (Men Only)
DESCRIPTION:Time: 11am-1.30pm. Place: Italian Bar\, 4 The Square\, Hyde\, Sk142QR. Come along to our Chayer Adda for freshly homemade chai\, nastha and engage in wellbeing activities\, games and talks. For details contact Shibley: 07946329099 / rilly@diversitymattersnw.org.uk
URL:https://www.diversitymattersnw.org.uk/event/chayer-adda-men-only-2-3-2/2026-04-08/
LOCATION:Hyde Healthy Living Centre (Women Supporting Women)\, 20 Great Norbury Street\, Hyde\, SK14 1BR\, United Kingdom
END:VEVENT
BEGIN:VEVENT
DTSTART;TZID=Europe/London:20260408T100000
DTEND;TZID=Europe/London:20260408T120000
DTSTAMP:20260423T100510
CREATED:20220901T082744Z
LAST-MODIFIED:20240308T143520Z
UID:10002936-1775642400-1775649600@www.diversitymattersnw.org.uk
SUMMARY:Community Learning Hub (Women Only)
DESCRIPTION:Time: 10-12pm. Place: Hyde Healthy Living Centre\, 20 Great Norbury St.\, SK14 1BR. Drop in to use our community laptop and get digital or employment support from our Learning Mentors. For more information\, please contact: Hasina 07591572844 / hasina@diversitymattersnw.org.uk
URL:https://www.diversitymattersnw.org.uk/event/wednesdays-community-learning-hub-women-only/2026-04-08/
LOCATION:Hyde Healthy Living Centre (Women Supporting Women)\, 20 Great Norbury Street\, Hyde\, SK14 1BR\, United Kingdom
END:VEVENT
BEGIN:VEVENT
DTSTART;TZID=Europe/London:20260401T110000
DTEND;TZID=Europe/London:20260401T133000
DTSTAMP:20260423T100510
CREATED:20240801T134242Z
LAST-MODIFIED:20240801T134243Z
UID:10004302-1775041200-1775050200@www.diversitymattersnw.org.uk
SUMMARY:Chayer Adda (Men Only)
DESCRIPTION:Time: 11am-1.30pm. Place: Italian Bar\, 4 The Square\, Hyde\, Sk142QR. Come along to our Chayer Adda for freshly homemade chai\, nastha and engage in wellbeing activities\, games and talks. For details contact Shibley: 07946329099 / rilly@diversitymattersnw.org.uk
URL:https://www.diversitymattersnw.org.uk/event/chayer-adda-men-only-2-3-2/2026-04-01/
LOCATION:Hyde Healthy Living Centre (Women Supporting Women)\, 20 Great Norbury Street\, Hyde\, SK14 1BR\, United Kingdom
END:VEVENT
BEGIN:VEVENT
DTSTART;TZID=Europe/London:20260401T100000
DTEND;TZID=Europe/London:20260401T120000
DTSTAMP:20260423T100510
CREATED:20220901T082744Z
LAST-MODIFIED:20240308T143520Z
UID:10002935-1775037600-1775044800@www.diversitymattersnw.org.uk
SUMMARY:Community Learning Hub (Women Only)
DESCRIPTION:Time: 10-12pm. Place: Hyde Healthy Living Centre\, 20 Great Norbury St.\, SK14 1BR. Drop in to use our community laptop and get digital or employment support from our Learning Mentors. For more information\, please contact: Hasina 07591572844 / hasina@diversitymattersnw.org.uk
URL:https://www.diversitymattersnw.org.uk/event/wednesdays-community-learning-hub-women-only/2026-04-01/
LOCATION:Hyde Healthy Living Centre (Women Supporting Women)\, 20 Great Norbury Street\, Hyde\, SK14 1BR\, United Kingdom
END:VEVENT
BEGIN:VEVENT
DTSTART;TZID=Europe/London:20260325T110000
DTEND;TZID=Europe/London:20260325T133000
DTSTAMP:20260423T100510
CREATED:20240801T134242Z
LAST-MODIFIED:20240801T134243Z
UID:10004301-1774436400-1774445400@www.diversitymattersnw.org.uk
SUMMARY:Chayer Adda (Men Only)
DESCRIPTION:Time: 11am-1.30pm. Place: Italian Bar\, 4 The Square\, Hyde\, Sk142QR. Come along to our Chayer Adda for freshly homemade chai\, nastha and engage in wellbeing activities\, games and talks. For details contact Shibley: 07946329099 / rilly@diversitymattersnw.org.uk
URL:https://www.diversitymattersnw.org.uk/event/chayer-adda-men-only-2-3-2/2026-03-25/
LOCATION:Hyde Healthy Living Centre (Women Supporting Women)\, 20 Great Norbury Street\, Hyde\, SK14 1BR\, United Kingdom
END:VEVENT
BEGIN:VEVENT
DTSTART;TZID=Europe/London:20260325T100000
DTEND;TZID=Europe/London:20260325T120000
DTSTAMP:20260423T100510
CREATED:20220901T082744Z
LAST-MODIFIED:20240308T143520Z
UID:10002934-1774432800-1774440000@www.diversitymattersnw.org.uk
SUMMARY:Community Learning Hub (Women Only)
DESCRIPTION:Time: 10-12pm. Place: Hyde Healthy Living Centre\, 20 Great Norbury St.\, SK14 1BR. Drop in to use our community laptop and get digital or employment support from our Learning Mentors. For more information\, please contact: Hasina 07591572844 / hasina@diversitymattersnw.org.uk
URL:https://www.diversitymattersnw.org.uk/event/wednesdays-community-learning-hub-women-only/2026-03-25/
LOCATION:Hyde Healthy Living Centre (Women Supporting Women)\, 20 Great Norbury Street\, Hyde\, SK14 1BR\, United Kingdom
END:VEVENT
BEGIN:VEVENT
DTSTART;TZID=Europe/London:20260318T110000
DTEND;TZID=Europe/London:20260318T133000
DTSTAMP:20260423T100510
CREATED:20240801T134242Z
LAST-MODIFIED:20240801T134243Z
UID:10004300-1773831600-1773840600@www.diversitymattersnw.org.uk
SUMMARY:Chayer Adda (Men Only)
DESCRIPTION:Time: 11am-1.30pm. Place: Italian Bar\, 4 The Square\, Hyde\, Sk142QR. Come along to our Chayer Adda for freshly homemade chai\, nastha and engage in wellbeing activities\, games and talks. For details contact Shibley: 07946329099 / rilly@diversitymattersnw.org.uk
URL:https://www.diversitymattersnw.org.uk/event/chayer-adda-men-only-2-3-2/2026-03-18/
LOCATION:Hyde Healthy Living Centre (Women Supporting Women)\, 20 Great Norbury Street\, Hyde\, SK14 1BR\, United Kingdom
END:VEVENT
BEGIN:VEVENT
DTSTART;TZID=Europe/London:20260318T100000
DTEND;TZID=Europe/London:20260318T120000
DTSTAMP:20260423T100510
CREATED:20220901T082744Z
LAST-MODIFIED:20240308T143520Z
UID:10002933-1773828000-1773835200@www.diversitymattersnw.org.uk
SUMMARY:Community Learning Hub (Women Only)
DESCRIPTION:Time: 10-12pm. Place: Hyde Healthy Living Centre\, 20 Great Norbury St.\, SK14 1BR. Drop in to use our community laptop and get digital or employment support from our Learning Mentors. For more information\, please contact: Hasina 07591572844 / hasina@diversitymattersnw.org.uk
URL:https://www.diversitymattersnw.org.uk/event/wednesdays-community-learning-hub-women-only/2026-03-18/
LOCATION:Hyde Healthy Living Centre (Women Supporting Women)\, 20 Great Norbury Street\, Hyde\, SK14 1BR\, United Kingdom
END:VEVENT
BEGIN:VEVENT
DTSTART;TZID=Europe/London:20260311T110000
DTEND;TZID=Europe/London:20260311T133000
DTSTAMP:20260423T100510
CREATED:20240801T134242Z
LAST-MODIFIED:20240801T134243Z
UID:10004299-1773226800-1773235800@www.diversitymattersnw.org.uk
SUMMARY:Chayer Adda (Men Only)
DESCRIPTION:Time: 11am-1.30pm. Place: Italian Bar\, 4 The Square\, Hyde\, Sk142QR. Come along to our Chayer Adda for freshly homemade chai\, nastha and engage in wellbeing activities\, games and talks. For details contact Shibley: 07946329099 / rilly@diversitymattersnw.org.uk
URL:https://www.diversitymattersnw.org.uk/event/chayer-adda-men-only-2-3-2/2026-03-11/
LOCATION:Hyde Healthy Living Centre (Women Supporting Women)\, 20 Great Norbury Street\, Hyde\, SK14 1BR\, United Kingdom
END:VEVENT
BEGIN:VEVENT
DTSTART;TZID=Europe/London:20260311T100000
DTEND;TZID=Europe/London:20260311T120000
DTSTAMP:20260423T100510
CREATED:20220901T082744Z
LAST-MODIFIED:20240308T143520Z
UID:10002932-1773223200-1773230400@www.diversitymattersnw.org.uk
SUMMARY:Community Learning Hub (Women Only)
DESCRIPTION:Time: 10-12pm. Place: Hyde Healthy Living Centre\, 20 Great Norbury St.\, SK14 1BR. Drop in to use our community laptop and get digital or employment support from our Learning Mentors. For more information\, please contact: Hasina 07591572844 / hasina@diversitymattersnw.org.uk
URL:https://www.diversitymattersnw.org.uk/event/wednesdays-community-learning-hub-women-only/2026-03-11/
LOCATION:Hyde Healthy Living Centre (Women Supporting Women)\, 20 Great Norbury Street\, Hyde\, SK14 1BR\, United Kingdom
END:VEVENT
BEGIN:VEVENT
DTSTART;TZID=Europe/London:20260304T110000
DTEND;TZID=Europe/London:20260304T133000
DTSTAMP:20260423T100510
CREATED:20240801T134242Z
LAST-MODIFIED:20240801T134243Z
UID:10004298-1772622000-1772631000@www.diversitymattersnw.org.uk
SUMMARY:Chayer Adda (Men Only)
DESCRIPTION:Time: 11am-1.30pm. Place: Italian Bar\, 4 The Square\, Hyde\, Sk142QR. Come along to our Chayer Adda for freshly homemade chai\, nastha and engage in wellbeing activities\, games and talks. For details contact Shibley: 07946329099 / rilly@diversitymattersnw.org.uk
URL:https://www.diversitymattersnw.org.uk/event/chayer-adda-men-only-2-3-2/2026-03-04/
LOCATION:Hyde Healthy Living Centre (Women Supporting Women)\, 20 Great Norbury Street\, Hyde\, SK14 1BR\, United Kingdom
END:VEVENT
BEGIN:VEVENT
DTSTART;TZID=Europe/London:20260304T100000
DTEND;TZID=Europe/London:20260304T120000
DTSTAMP:20260423T100510
CREATED:20220901T082744Z
LAST-MODIFIED:20240308T143520Z
UID:10002931-1772618400-1772625600@www.diversitymattersnw.org.uk
SUMMARY:Community Learning Hub (Women Only)
DESCRIPTION:Time: 10-12pm. Place: Hyde Healthy Living Centre\, 20 Great Norbury St.\, SK14 1BR. Drop in to use our community laptop and get digital or employment support from our Learning Mentors. For more information\, please contact: Hasina 07591572844 / hasina@diversitymattersnw.org.uk
URL:https://www.diversitymattersnw.org.uk/event/wednesdays-community-learning-hub-women-only/2026-03-04/
LOCATION:Hyde Healthy Living Centre (Women Supporting Women)\, 20 Great Norbury Street\, Hyde\, SK14 1BR\, United Kingdom
END:VEVENT
BEGIN:VEVENT
DTSTART;TZID=Europe/London:20260225T110000
DTEND;TZID=Europe/London:20260225T133000
DTSTAMP:20260423T100510
CREATED:20240801T134242Z
LAST-MODIFIED:20240801T134243Z
UID:10004297-1772017200-1772026200@www.diversitymattersnw.org.uk
SUMMARY:Chayer Adda (Men Only)
DESCRIPTION:Time: 11am-1.30pm. Place: Italian Bar\, 4 The Square\, Hyde\, Sk142QR. Come along to our Chayer Adda for freshly homemade chai\, nastha and engage in wellbeing activities\, games and talks. For details contact Shibley: 07946329099 / rilly@diversitymattersnw.org.uk
URL:https://www.diversitymattersnw.org.uk/event/chayer-adda-men-only-2-3-2/2026-02-25/
LOCATION:Hyde Healthy Living Centre (Women Supporting Women)\, 20 Great Norbury Street\, Hyde\, SK14 1BR\, United Kingdom
END:VEVENT
BEGIN:VEVENT
DTSTART;TZID=Europe/London:20260225T100000
DTEND;TZID=Europe/London:20260225T120000
DTSTAMP:20260423T100510
CREATED:20220901T082744Z
LAST-MODIFIED:20240308T143520Z
UID:10002930-1772013600-1772020800@www.diversitymattersnw.org.uk
SUMMARY:Community Learning Hub (Women Only)
DESCRIPTION:Time: 10-12pm. Place: Hyde Healthy Living Centre\, 20 Great Norbury St.\, SK14 1BR. Drop in to use our community laptop and get digital or employment support from our Learning Mentors. For more information\, please contact: Hasina 07591572844 / hasina@diversitymattersnw.org.uk
URL:https://www.diversitymattersnw.org.uk/event/wednesdays-community-learning-hub-women-only/2026-02-25/
LOCATION:Hyde Healthy Living Centre (Women Supporting Women)\, 20 Great Norbury Street\, Hyde\, SK14 1BR\, United Kingdom
END:VEVENT
BEGIN:VEVENT
DTSTART;TZID=Europe/London:20260218T110000
DTEND;TZID=Europe/London:20260218T133000
DTSTAMP:20260423T100510
CREATED:20240801T134242Z
LAST-MODIFIED:20240801T134243Z
UID:10004296-1771412400-1771421400@www.diversitymattersnw.org.uk
SUMMARY:Chayer Adda (Men Only)
DESCRIPTION:Time: 11am-1.30pm. Place: Italian Bar\, 4 The Square\, Hyde\, Sk142QR. Come along to our Chayer Adda for freshly homemade chai\, nastha and engage in wellbeing activities\, games and talks. For details contact Shibley: 07946329099 / rilly@diversitymattersnw.org.uk
URL:https://www.diversitymattersnw.org.uk/event/chayer-adda-men-only-2-3-2/2026-02-18/
LOCATION:Hyde Healthy Living Centre (Women Supporting Women)\, 20 Great Norbury Street\, Hyde\, SK14 1BR\, United Kingdom
END:VEVENT
BEGIN:VEVENT
DTSTART;TZID=Europe/London:20260218T100000
DTEND;TZID=Europe/London:20260218T120000
DTSTAMP:20260423T100510
CREATED:20220901T082744Z
LAST-MODIFIED:20240308T143520Z
UID:10002929-1771408800-1771416000@www.diversitymattersnw.org.uk
SUMMARY:Community Learning Hub (Women Only)
DESCRIPTION:Time: 10-12pm. Place: Hyde Healthy Living Centre\, 20 Great Norbury St.\, SK14 1BR. Drop in to use our community laptop and get digital or employment support from our Learning Mentors. For more information\, please contact: Hasina 07591572844 / hasina@diversitymattersnw.org.uk
URL:https://www.diversitymattersnw.org.uk/event/wednesdays-community-learning-hub-women-only/2026-02-18/
LOCATION:Hyde Healthy Living Centre (Women Supporting Women)\, 20 Great Norbury Street\, Hyde\, SK14 1BR\, United Kingdom
END:VEVENT
BEGIN:VEVENT
DTSTART;TZID=Europe/London:20260211T110000
DTEND;TZID=Europe/London:20260211T133000
DTSTAMP:20260423T100510
CREATED:20240801T134242Z
LAST-MODIFIED:20240801T134243Z
UID:10004295-1770807600-1770816600@www.diversitymattersnw.org.uk
SUMMARY:Chayer Adda (Men Only)
DESCRIPTION:Time: 11am-1.30pm. Place: Italian Bar\, 4 The Square\, Hyde\, Sk142QR. Come along to our Chayer Adda for freshly homemade chai\, nastha and engage in wellbeing activities\, games and talks. For details contact Shibley: 07946329099 / rilly@diversitymattersnw.org.uk
URL:https://www.diversitymattersnw.org.uk/event/chayer-adda-men-only-2-3-2/2026-02-11/
LOCATION:Hyde Healthy Living Centre (Women Supporting Women)\, 20 Great Norbury Street\, Hyde\, SK14 1BR\, United Kingdom
END:VEVENT
BEGIN:VEVENT
DTSTART;TZID=Europe/London:20260211T100000
DTEND;TZID=Europe/London:20260211T120000
DTSTAMP:20260423T100510
CREATED:20220901T082744Z
LAST-MODIFIED:20240308T143520Z
UID:10002928-1770804000-1770811200@www.diversitymattersnw.org.uk
SUMMARY:Community Learning Hub (Women Only)
DESCRIPTION:Time: 10-12pm. Place: Hyde Healthy Living Centre\, 20 Great Norbury St.\, SK14 1BR. Drop in to use our community laptop and get digital or employment support from our Learning Mentors. For more information\, please contact: Hasina 07591572844 / hasina@diversitymattersnw.org.uk
URL:https://www.diversitymattersnw.org.uk/event/wednesdays-community-learning-hub-women-only/2026-02-11/
LOCATION:Hyde Healthy Living Centre (Women Supporting Women)\, 20 Great Norbury Street\, Hyde\, SK14 1BR\, United Kingdom
END:VEVENT
BEGIN:VEVENT
DTSTART;TZID=Europe/London:20260204T110000
DTEND;TZID=Europe/London:20260204T133000
DTSTAMP:20260423T100510
CREATED:20240801T134242Z
LAST-MODIFIED:20240801T134243Z
UID:10004294-1770202800-1770211800@www.diversitymattersnw.org.uk
SUMMARY:Chayer Adda (Men Only)
DESCRIPTION:Time: 11am-1.30pm. Place: Italian Bar\, 4 The Square\, Hyde\, Sk142QR. Come along to our Chayer Adda for freshly homemade chai\, nastha and engage in wellbeing activities\, games and talks. For details contact Shibley: 07946329099 / rilly@diversitymattersnw.org.uk
URL:https://www.diversitymattersnw.org.uk/event/chayer-adda-men-only-2-3-2/2026-02-04/
LOCATION:Hyde Healthy Living Centre (Women Supporting Women)\, 20 Great Norbury Street\, Hyde\, SK14 1BR\, United Kingdom
END:VEVENT
BEGIN:VEVENT
DTSTART;TZID=Europe/London:20260204T100000
DTEND;TZID=Europe/London:20260204T120000
DTSTAMP:20260423T100510
CREATED:20220901T082744Z
LAST-MODIFIED:20240308T143520Z
UID:10002927-1770199200-1770206400@www.diversitymattersnw.org.uk
SUMMARY:Community Learning Hub (Women Only)
DESCRIPTION:Time: 10-12pm. Place: Hyde Healthy Living Centre\, 20 Great Norbury St.\, SK14 1BR. Drop in to use our community laptop and get digital or employment support from our Learning Mentors. For more information\, please contact: Hasina 07591572844 / hasina@diversitymattersnw.org.uk
URL:https://www.diversitymattersnw.org.uk/event/wednesdays-community-learning-hub-women-only/2026-02-04/
LOCATION:Hyde Healthy Living Centre (Women Supporting Women)\, 20 Great Norbury Street\, Hyde\, SK14 1BR\, United Kingdom
END:VEVENT
BEGIN:VEVENT
DTSTART;TZID=Europe/London:20260128T110000
DTEND;TZID=Europe/London:20260128T133000
DTSTAMP:20260423T100510
CREATED:20240801T134242Z
LAST-MODIFIED:20240801T134243Z
UID:10004293-1769598000-1769607000@www.diversitymattersnw.org.uk
SUMMARY:Chayer Adda (Men Only)
DESCRIPTION:Time: 11am-1.30pm. Place: Italian Bar\, 4 The Square\, Hyde\, Sk142QR. Come along to our Chayer Adda for freshly homemade chai\, nastha and engage in wellbeing activities\, games and talks. For details contact Shibley: 07946329099 / rilly@diversitymattersnw.org.uk
URL:https://www.diversitymattersnw.org.uk/event/chayer-adda-men-only-2-3-2/2026-01-28/
LOCATION:Hyde Healthy Living Centre (Women Supporting Women)\, 20 Great Norbury Street\, Hyde\, SK14 1BR\, United Kingdom
END:VEVENT
BEGIN:VEVENT
DTSTART;TZID=Europe/London:20260128T100000
DTEND;TZID=Europe/London:20260128T120000
DTSTAMP:20260423T100510
CREATED:20220901T082744Z
LAST-MODIFIED:20240308T143520Z
UID:10002926-1769594400-1769601600@www.diversitymattersnw.org.uk
SUMMARY:Community Learning Hub (Women Only)
DESCRIPTION:Time: 10-12pm. Place: Hyde Healthy Living Centre\, 20 Great Norbury St.\, SK14 1BR. Drop in to use our community laptop and get digital or employment support from our Learning Mentors. For more information\, please contact: Hasina 07591572844 / hasina@diversitymattersnw.org.uk
URL:https://www.diversitymattersnw.org.uk/event/wednesdays-community-learning-hub-women-only/2026-01-28/
LOCATION:Hyde Healthy Living Centre (Women Supporting Women)\, 20 Great Norbury Street\, Hyde\, SK14 1BR\, United Kingdom
END:VEVENT
BEGIN:VEVENT
DTSTART;TZID=Europe/London:20260121T110000
DTEND;TZID=Europe/London:20260121T133000
DTSTAMP:20260423T100510
CREATED:20240801T134242Z
LAST-MODIFIED:20240801T134243Z
UID:10004292-1768993200-1769002200@www.diversitymattersnw.org.uk
SUMMARY:Chayer Adda (Men Only)
DESCRIPTION:Time: 11am-1.30pm. Place: Italian Bar\, 4 The Square\, Hyde\, Sk142QR. Come along to our Chayer Adda for freshly homemade chai\, nastha and engage in wellbeing activities\, games and talks. For details contact Shibley: 07946329099 / rilly@diversitymattersnw.org.uk
URL:https://www.diversitymattersnw.org.uk/event/chayer-adda-men-only-2-3-2/2026-01-21/
LOCATION:Hyde Healthy Living Centre (Women Supporting Women)\, 20 Great Norbury Street\, Hyde\, SK14 1BR\, United Kingdom
END:VEVENT
BEGIN:VEVENT
DTSTART;TZID=Europe/London:20260121T100000
DTEND;TZID=Europe/London:20260121T120000
DTSTAMP:20260423T100510
CREATED:20220901T082744Z
LAST-MODIFIED:20240308T143520Z
UID:10002925-1768989600-1768996800@www.diversitymattersnw.org.uk
SUMMARY:Community Learning Hub (Women Only)
DESCRIPTION:Time: 10-12pm. Place: Hyde Healthy Living Centre\, 20 Great Norbury St.\, SK14 1BR. Drop in to use our community laptop and get digital or employment support from our Learning Mentors. For more information\, please contact: Hasina 07591572844 / hasina@diversitymattersnw.org.uk
URL:https://www.diversitymattersnw.org.uk/event/wednesdays-community-learning-hub-women-only/2026-01-21/
LOCATION:Hyde Healthy Living Centre (Women Supporting Women)\, 20 Great Norbury Street\, Hyde\, SK14 1BR\, United Kingdom
END:VEVENT
BEGIN:VEVENT
DTSTART;TZID=Europe/London:20260114T110000
DTEND;TZID=Europe/London:20260114T133000
DTSTAMP:20260423T100510
CREATED:20240801T134242Z
LAST-MODIFIED:20240801T134243Z
UID:10004291-1768388400-1768397400@www.diversitymattersnw.org.uk
SUMMARY:Chayer Adda (Men Only)
DESCRIPTION:Time: 11am-1.30pm. Place: Italian Bar\, 4 The Square\, Hyde\, Sk142QR. Come along to our Chayer Adda for freshly homemade chai\, nastha and engage in wellbeing activities\, games and talks. For details contact Shibley: 07946329099 / rilly@diversitymattersnw.org.uk
URL:https://www.diversitymattersnw.org.uk/event/chayer-adda-men-only-2-3-2/2026-01-14/
LOCATION:Hyde Healthy Living Centre (Women Supporting Women)\, 20 Great Norbury Street\, Hyde\, SK14 1BR\, United Kingdom
END:VEVENT
BEGIN:VEVENT
DTSTART;TZID=Europe/London:20260114T100000
DTEND;TZID=Europe/London:20260114T120000
DTSTAMP:20260423T100510
CREATED:20220901T082744Z
LAST-MODIFIED:20240308T143520Z
UID:10002924-1768384800-1768392000@www.diversitymattersnw.org.uk
SUMMARY:Community Learning Hub (Women Only)
DESCRIPTION:Time: 10-12pm. Place: Hyde Healthy Living Centre\, 20 Great Norbury St.\, SK14 1BR. Drop in to use our community laptop and get digital or employment support from our Learning Mentors. For more information\, please contact: Hasina 07591572844 / hasina@diversitymattersnw.org.uk
URL:https://www.diversitymattersnw.org.uk/event/wednesdays-community-learning-hub-women-only/2026-01-14/
LOCATION:Hyde Healthy Living Centre (Women Supporting Women)\, 20 Great Norbury Street\, Hyde\, SK14 1BR\, United Kingdom
END:VEVENT
END:VCALENDAR