BEGIN:VCALENDAR
VERSION:2.0
PRODID:-//Diversity Matters NW - ECPv6.15.20//NONSGML v1.0//EN
CALSCALE:GREGORIAN
METHOD:PUBLISH
X-ORIGINAL-URL:https://www.diversitymattersnw.org.uk
X-WR-CALDESC:Events for Diversity Matters NW
REFRESH-INTERVAL;VALUE=DURATION:PT1H
X-Robots-Tag:noindex
X-PUBLISHED-TTL:PT1H
BEGIN:VTIMEZONE
TZID:Europe/London
BEGIN:DAYLIGHT
TZOFFSETFROM:+0000
TZOFFSETTO:+0100
TZNAME:BST
DTSTART:20260329T010000
END:DAYLIGHT
BEGIN:STANDARD
TZOFFSETFROM:+0100
TZOFFSETTO:+0000
TZNAME:GMT
DTSTART:20261025T010000
END:STANDARD
BEGIN:DAYLIGHT
TZOFFSETFROM:+0000
TZOFFSETTO:+0100
TZNAME:BST
DTSTART:20270328T010000
END:DAYLIGHT
BEGIN:STANDARD
TZOFFSETFROM:+0100
TZOFFSETTO:+0000
TZNAME:GMT
DTSTART:20271031T010000
END:STANDARD
BEGIN:DAYLIGHT
TZOFFSETFROM:+0000
TZOFFSETTO:+0100
TZNAME:BST
DTSTART:20280326T010000
END:DAYLIGHT
BEGIN:STANDARD
TZOFFSETFROM:+0100
TZOFFSETTO:+0000
TZNAME:GMT
DTSTART:20281029T010000
END:STANDARD
END:VTIMEZONE
BEGIN:VEVENT
DTSTART;TZID=Europe/London:20270908T100000
DTEND;TZID=Europe/London:20270908T120000
DTSTAMP:20260422T000508
CREATED:20220901T082744Z
LAST-MODIFIED:20240308T143520Z
UID:10003010-1820397600-1820404800@www.diversitymattersnw.org.uk
SUMMARY:Community Learning Hub (Women Only)
DESCRIPTION:Time: 10-12pm. Place: Hyde Healthy Living Centre\, 20 Great Norbury St.\, SK14 1BR. Drop in to use our community laptop and get digital or employment support from our Learning Mentors. For more information\, please contact: Hasina 07591572844 / hasina@diversitymattersnw.org.uk
URL:https://www.diversitymattersnw.org.uk/event/wednesdays-community-learning-hub-women-only/2027-09-08/
LOCATION:Hyde Healthy Living Centre (Women Supporting Women)\, 20 Great Norbury Street\, Hyde\, SK14 1BR\, United Kingdom
END:VEVENT
BEGIN:VEVENT
DTSTART;TZID=Europe/London:20270908T110000
DTEND;TZID=Europe/London:20270908T133000
DTSTAMP:20260422T000508
CREATED:20240801T134242Z
LAST-MODIFIED:20240801T134243Z
UID:10004377-1820401200-1820410200@www.diversitymattersnw.org.uk
SUMMARY:Chayer Adda (Men Only)
DESCRIPTION:Time: 11am-1.30pm. Place: Italian Bar\, 4 The Square\, Hyde\, Sk142QR. Come along to our Chayer Adda for freshly homemade chai\, nastha and engage in wellbeing activities\, games and talks. For details contact Shibley: 07946329099 / rilly@diversitymattersnw.org.uk
URL:https://www.diversitymattersnw.org.uk/event/chayer-adda-men-only-2-3-2/2027-09-08/
LOCATION:Hyde Healthy Living Centre (Women Supporting Women)\, 20 Great Norbury Street\, Hyde\, SK14 1BR\, United Kingdom
END:VEVENT
BEGIN:VEVENT
DTSTART;TZID=Europe/London:20270909T100000
DTEND;TZID=Europe/London:20270909T113000
DTSTAMP:20260422T000508
CREATED:20240801T134334Z
LAST-MODIFIED:20240801T134334Z
UID:10003235-1820484000-1820489400@www.diversitymattersnw.org.uk
SUMMARY:Women Matters Hub
DESCRIPTION:Time: 10-11:30am. Place: Hyde Central Methodist Church. Come along and join us in our craft activities\, make new friends and engage in weekly wellbeing talks. Term time only. For more details\, please contact Shibley 07946329099 / rilly@diversitymattersnw.org.uk
URL:https://www.diversitymattersnw.org.uk/event/thursdays-women-matters-hub-2/2027-09-09/
LOCATION:Hyde Central Methodist Church\, Crook Street\, Hyde\, SK14 1NQ
END:VEVENT
BEGIN:VEVENT
DTSTART;TZID=Europe/London:20270913T100000
DTEND;TZID=Europe/London:20270913T143000
DTSTAMP:20260422T000508
CREATED:20240731T122000Z
LAST-MODIFIED:20260127T133241Z
UID:10004918-1820829600-1820845800@www.diversitymattersnw.org.uk
SUMMARY:Advice Surgery Drop in
DESCRIPTION:Mondays – Time: Term Time 10am-2.30pm School Holidays :11am-1:30pm. Place: Hyde Healthy Living Centre. If English is not your first language and you’re struggling to make appointment  / access other services\, come to our drop-in session. For more information\, please contact Nisma: 07549956567 / nisma@diversitymattersnw.org.uk or Mahmuda: 07562686183 / mahmuda@diversitymattersnw.org.uk \nPlease note during Ramadan Term Time: 10am-1.30pm\, Ramadan during School Holidays 11am-1.30pm
URL:https://www.diversitymattersnw.org.uk/event/access-support-service-drop-in-2-3/2027-09-13/
END:VEVENT
BEGIN:VEVENT
DTSTART;TZID=Europe/London:20270914T100000
DTEND;TZID=Europe/London:20270914T120000
DTSTAMP:20260422T000508
CREATED:20240417T142255Z
LAST-MODIFIED:20240417T142255Z
UID:10004110-1820916000-1820923200@www.diversitymattersnw.org.uk
SUMMARY:Conversational ESOL
DESCRIPTION:Time: 10-12. Place: Hyde Healthy Living Centre\, 20 Great Norbury St.\, SK14 1BR. Conversational ESOL class to learn and improve English and gain confidence. For more information\, please contact: Hasina 07591572844/ hasina@diversitymattersnw.org.uk.
URL:https://www.diversitymattersnw.org.uk/event/conversational-esol/2027-09-14/
END:VEVENT
BEGIN:VEVENT
DTSTART;TZID=Europe/London:20270914T163000
DTEND;TZID=Europe/London:20270914T180000
DTSTAMP:20260422T000508
CREATED:20231212T125901Z
LAST-MODIFIED:20240308T142841Z
UID:10002786-1820939400-1820944800@www.diversitymattersnw.org.uk
SUMMARY:Kreative Kraftz (Women Only)
DESCRIPTION:Time: 4:30-6pm. Place: Hyde Healthy Living Centre. Sessions include learning to knit\, crochet\, dress making / sewing\, collage/frame making\, mehndi\, platter/canvas/candle decorating\, hijab styling and other creative skills. For details contact Nisma: 07549956567/ nisma@diversitymattersnw.org.uk
URL:https://www.diversitymattersnw.org.uk/event/kreative-kraftz-women-only-2/2027-09-14/
END:VEVENT
BEGIN:VEVENT
DTSTART;TZID=Europe/London:20270915T100000
DTEND;TZID=Europe/London:20270915T120000
DTSTAMP:20260422T000508
CREATED:20220901T082744Z
LAST-MODIFIED:20240308T143520Z
UID:10003011-1821002400-1821009600@www.diversitymattersnw.org.uk
SUMMARY:Community Learning Hub (Women Only)
DESCRIPTION:Time: 10-12pm. Place: Hyde Healthy Living Centre\, 20 Great Norbury St.\, SK14 1BR. Drop in to use our community laptop and get digital or employment support from our Learning Mentors. For more information\, please contact: Hasina 07591572844 / hasina@diversitymattersnw.org.uk
URL:https://www.diversitymattersnw.org.uk/event/wednesdays-community-learning-hub-women-only/2027-09-15/
LOCATION:Hyde Healthy Living Centre (Women Supporting Women)\, 20 Great Norbury Street\, Hyde\, SK14 1BR\, United Kingdom
END:VEVENT
BEGIN:VEVENT
DTSTART;TZID=Europe/London:20270915T110000
DTEND;TZID=Europe/London:20270915T133000
DTSTAMP:20260422T000508
CREATED:20240801T134242Z
LAST-MODIFIED:20240801T134243Z
UID:10004378-1821006000-1821015000@www.diversitymattersnw.org.uk
SUMMARY:Chayer Adda (Men Only)
DESCRIPTION:Time: 11am-1.30pm. Place: Italian Bar\, 4 The Square\, Hyde\, Sk142QR. Come along to our Chayer Adda for freshly homemade chai\, nastha and engage in wellbeing activities\, games and talks. For details contact Shibley: 07946329099 / rilly@diversitymattersnw.org.uk
URL:https://www.diversitymattersnw.org.uk/event/chayer-adda-men-only-2-3-2/2027-09-15/
LOCATION:Hyde Healthy Living Centre (Women Supporting Women)\, 20 Great Norbury Street\, Hyde\, SK14 1BR\, United Kingdom
END:VEVENT
BEGIN:VEVENT
DTSTART;TZID=Europe/London:20270916T100000
DTEND;TZID=Europe/London:20270916T113000
DTSTAMP:20260422T000508
CREATED:20240801T134334Z
LAST-MODIFIED:20240801T134334Z
UID:10003236-1821088800-1821094200@www.diversitymattersnw.org.uk
SUMMARY:Women Matters Hub
DESCRIPTION:Time: 10-11:30am. Place: Hyde Central Methodist Church. Come along and join us in our craft activities\, make new friends and engage in weekly wellbeing talks. Term time only. For more details\, please contact Shibley 07946329099 / rilly@diversitymattersnw.org.uk
URL:https://www.diversitymattersnw.org.uk/event/thursdays-women-matters-hub-2/2027-09-16/
LOCATION:Hyde Central Methodist Church\, Crook Street\, Hyde\, SK14 1NQ
END:VEVENT
BEGIN:VEVENT
DTSTART;TZID=Europe/London:20270920T100000
DTEND;TZID=Europe/London:20270920T143000
DTSTAMP:20260422T000508
CREATED:20240731T122000Z
LAST-MODIFIED:20260127T133241Z
UID:10004919-1821434400-1821450600@www.diversitymattersnw.org.uk
SUMMARY:Advice Surgery Drop in
DESCRIPTION:Mondays – Time: Term Time 10am-2.30pm School Holidays :11am-1:30pm. Place: Hyde Healthy Living Centre. If English is not your first language and you’re struggling to make appointment  / access other services\, come to our drop-in session. For more information\, please contact Nisma: 07549956567 / nisma@diversitymattersnw.org.uk or Mahmuda: 07562686183 / mahmuda@diversitymattersnw.org.uk \nPlease note during Ramadan Term Time: 10am-1.30pm\, Ramadan during School Holidays 11am-1.30pm
URL:https://www.diversitymattersnw.org.uk/event/access-support-service-drop-in-2-3/2027-09-20/
END:VEVENT
BEGIN:VEVENT
DTSTART;TZID=Europe/London:20270921T100000
DTEND;TZID=Europe/London:20270921T120000
DTSTAMP:20260422T000508
CREATED:20240417T142255Z
LAST-MODIFIED:20240417T142255Z
UID:10004111-1821520800-1821528000@www.diversitymattersnw.org.uk
SUMMARY:Conversational ESOL
DESCRIPTION:Time: 10-12. Place: Hyde Healthy Living Centre\, 20 Great Norbury St.\, SK14 1BR. Conversational ESOL class to learn and improve English and gain confidence. For more information\, please contact: Hasina 07591572844/ hasina@diversitymattersnw.org.uk.
URL:https://www.diversitymattersnw.org.uk/event/conversational-esol/2027-09-21/
END:VEVENT
BEGIN:VEVENT
DTSTART;TZID=Europe/London:20270921T163000
DTEND;TZID=Europe/London:20270921T180000
DTSTAMP:20260422T000508
CREATED:20231212T125901Z
LAST-MODIFIED:20240308T142841Z
UID:10002787-1821544200-1821549600@www.diversitymattersnw.org.uk
SUMMARY:Kreative Kraftz (Women Only)
DESCRIPTION:Time: 4:30-6pm. Place: Hyde Healthy Living Centre. Sessions include learning to knit\, crochet\, dress making / sewing\, collage/frame making\, mehndi\, platter/canvas/candle decorating\, hijab styling and other creative skills. For details contact Nisma: 07549956567/ nisma@diversitymattersnw.org.uk
URL:https://www.diversitymattersnw.org.uk/event/kreative-kraftz-women-only-2/2027-09-21/
END:VEVENT
BEGIN:VEVENT
DTSTART;TZID=Europe/London:20270922T100000
DTEND;TZID=Europe/London:20270922T120000
DTSTAMP:20260422T000508
CREATED:20220901T082744Z
LAST-MODIFIED:20240308T143520Z
UID:10003012-1821607200-1821614400@www.diversitymattersnw.org.uk
SUMMARY:Community Learning Hub (Women Only)
DESCRIPTION:Time: 10-12pm. Place: Hyde Healthy Living Centre\, 20 Great Norbury St.\, SK14 1BR. Drop in to use our community laptop and get digital or employment support from our Learning Mentors. For more information\, please contact: Hasina 07591572844 / hasina@diversitymattersnw.org.uk
URL:https://www.diversitymattersnw.org.uk/event/wednesdays-community-learning-hub-women-only/2027-09-22/
LOCATION:Hyde Healthy Living Centre (Women Supporting Women)\, 20 Great Norbury Street\, Hyde\, SK14 1BR\, United Kingdom
END:VEVENT
BEGIN:VEVENT
DTSTART;TZID=Europe/London:20270922T110000
DTEND;TZID=Europe/London:20270922T133000
DTSTAMP:20260422T000508
CREATED:20240801T134242Z
LAST-MODIFIED:20240801T134243Z
UID:10004379-1821610800-1821619800@www.diversitymattersnw.org.uk
SUMMARY:Chayer Adda (Men Only)
DESCRIPTION:Time: 11am-1.30pm. Place: Italian Bar\, 4 The Square\, Hyde\, Sk142QR. Come along to our Chayer Adda for freshly homemade chai\, nastha and engage in wellbeing activities\, games and talks. For details contact Shibley: 07946329099 / rilly@diversitymattersnw.org.uk
URL:https://www.diversitymattersnw.org.uk/event/chayer-adda-men-only-2-3-2/2027-09-22/
LOCATION:Hyde Healthy Living Centre (Women Supporting Women)\, 20 Great Norbury Street\, Hyde\, SK14 1BR\, United Kingdom
END:VEVENT
BEGIN:VEVENT
DTSTART;TZID=Europe/London:20270923T100000
DTEND;TZID=Europe/London:20270923T113000
DTSTAMP:20260422T000508
CREATED:20240801T134334Z
LAST-MODIFIED:20240801T134334Z
UID:10003237-1821693600-1821699000@www.diversitymattersnw.org.uk
SUMMARY:Women Matters Hub
DESCRIPTION:Time: 10-11:30am. Place: Hyde Central Methodist Church. Come along and join us in our craft activities\, make new friends and engage in weekly wellbeing talks. Term time only. For more details\, please contact Shibley 07946329099 / rilly@diversitymattersnw.org.uk
URL:https://www.diversitymattersnw.org.uk/event/thursdays-women-matters-hub-2/2027-09-23/
LOCATION:Hyde Central Methodist Church\, Crook Street\, Hyde\, SK14 1NQ
END:VEVENT
BEGIN:VEVENT
DTSTART;TZID=Europe/London:20270927T100000
DTEND;TZID=Europe/London:20270927T143000
DTSTAMP:20260422T000508
CREATED:20240731T122000Z
LAST-MODIFIED:20260127T133241Z
UID:10004920-1822039200-1822055400@www.diversitymattersnw.org.uk
SUMMARY:Advice Surgery Drop in
DESCRIPTION:Mondays – Time: Term Time 10am-2.30pm School Holidays :11am-1:30pm. Place: Hyde Healthy Living Centre. If English is not your first language and you’re struggling to make appointment  / access other services\, come to our drop-in session. For more information\, please contact Nisma: 07549956567 / nisma@diversitymattersnw.org.uk or Mahmuda: 07562686183 / mahmuda@diversitymattersnw.org.uk \nPlease note during Ramadan Term Time: 10am-1.30pm\, Ramadan during School Holidays 11am-1.30pm
URL:https://www.diversitymattersnw.org.uk/event/access-support-service-drop-in-2-3/2027-09-27/
END:VEVENT
BEGIN:VEVENT
DTSTART;TZID=Europe/London:20270928T100000
DTEND;TZID=Europe/London:20270928T120000
DTSTAMP:20260422T000508
CREATED:20240417T142255Z
LAST-MODIFIED:20240417T142255Z
UID:10004112-1822125600-1822132800@www.diversitymattersnw.org.uk
SUMMARY:Conversational ESOL
DESCRIPTION:Time: 10-12. Place: Hyde Healthy Living Centre\, 20 Great Norbury St.\, SK14 1BR. Conversational ESOL class to learn and improve English and gain confidence. For more information\, please contact: Hasina 07591572844/ hasina@diversitymattersnw.org.uk.
URL:https://www.diversitymattersnw.org.uk/event/conversational-esol/2027-09-28/
END:VEVENT
BEGIN:VEVENT
DTSTART;TZID=Europe/London:20270928T163000
DTEND;TZID=Europe/London:20270928T180000
DTSTAMP:20260422T000508
CREATED:20231212T125901Z
LAST-MODIFIED:20240308T142841Z
UID:10002788-1822149000-1822154400@www.diversitymattersnw.org.uk
SUMMARY:Kreative Kraftz (Women Only)
DESCRIPTION:Time: 4:30-6pm. Place: Hyde Healthy Living Centre. Sessions include learning to knit\, crochet\, dress making / sewing\, collage/frame making\, mehndi\, platter/canvas/candle decorating\, hijab styling and other creative skills. For details contact Nisma: 07549956567/ nisma@diversitymattersnw.org.uk
URL:https://www.diversitymattersnw.org.uk/event/kreative-kraftz-women-only-2/2027-09-28/
END:VEVENT
BEGIN:VEVENT
DTSTART;TZID=Europe/London:20270929T100000
DTEND;TZID=Europe/London:20270929T120000
DTSTAMP:20260422T000508
CREATED:20220901T082744Z
LAST-MODIFIED:20240308T143520Z
UID:10003013-1822212000-1822219200@www.diversitymattersnw.org.uk
SUMMARY:Community Learning Hub (Women Only)
DESCRIPTION:Time: 10-12pm. Place: Hyde Healthy Living Centre\, 20 Great Norbury St.\, SK14 1BR. Drop in to use our community laptop and get digital or employment support from our Learning Mentors. For more information\, please contact: Hasina 07591572844 / hasina@diversitymattersnw.org.uk
URL:https://www.diversitymattersnw.org.uk/event/wednesdays-community-learning-hub-women-only/2027-09-29/
LOCATION:Hyde Healthy Living Centre (Women Supporting Women)\, 20 Great Norbury Street\, Hyde\, SK14 1BR\, United Kingdom
END:VEVENT
BEGIN:VEVENT
DTSTART;TZID=Europe/London:20270929T110000
DTEND;TZID=Europe/London:20270929T133000
DTSTAMP:20260422T000508
CREATED:20240801T134242Z
LAST-MODIFIED:20240801T134243Z
UID:10004380-1822215600-1822224600@www.diversitymattersnw.org.uk
SUMMARY:Chayer Adda (Men Only)
DESCRIPTION:Time: 11am-1.30pm. Place: Italian Bar\, 4 The Square\, Hyde\, Sk142QR. Come along to our Chayer Adda for freshly homemade chai\, nastha and engage in wellbeing activities\, games and talks. For details contact Shibley: 07946329099 / rilly@diversitymattersnw.org.uk
URL:https://www.diversitymattersnw.org.uk/event/chayer-adda-men-only-2-3-2/2027-09-29/
LOCATION:Hyde Healthy Living Centre (Women Supporting Women)\, 20 Great Norbury Street\, Hyde\, SK14 1BR\, United Kingdom
END:VEVENT
BEGIN:VEVENT
DTSTART;TZID=Europe/London:20270930T100000
DTEND;TZID=Europe/London:20270930T113000
DTSTAMP:20260422T000508
CREATED:20240801T134334Z
LAST-MODIFIED:20240801T134334Z
UID:10003238-1822298400-1822303800@www.diversitymattersnw.org.uk
SUMMARY:Women Matters Hub
DESCRIPTION:Time: 10-11:30am. Place: Hyde Central Methodist Church. Come along and join us in our craft activities\, make new friends and engage in weekly wellbeing talks. Term time only. For more details\, please contact Shibley 07946329099 / rilly@diversitymattersnw.org.uk
URL:https://www.diversitymattersnw.org.uk/event/thursdays-women-matters-hub-2/2027-09-30/
LOCATION:Hyde Central Methodist Church\, Crook Street\, Hyde\, SK14 1NQ
END:VEVENT
BEGIN:VEVENT
DTSTART;TZID=Europe/London:20271004T100000
DTEND;TZID=Europe/London:20271004T143000
DTSTAMP:20260422T000508
CREATED:20240731T122000Z
LAST-MODIFIED:20260127T133241Z
UID:10004921-1822644000-1822660200@www.diversitymattersnw.org.uk
SUMMARY:Advice Surgery Drop in
DESCRIPTION:Mondays – Time: Term Time 10am-2.30pm School Holidays :11am-1:30pm. Place: Hyde Healthy Living Centre. If English is not your first language and you’re struggling to make appointment  / access other services\, come to our drop-in session. For more information\, please contact Nisma: 07549956567 / nisma@diversitymattersnw.org.uk or Mahmuda: 07562686183 / mahmuda@diversitymattersnw.org.uk \nPlease note during Ramadan Term Time: 10am-1.30pm\, Ramadan during School Holidays 11am-1.30pm
URL:https://www.diversitymattersnw.org.uk/event/access-support-service-drop-in-2-3/2027-10-04/
END:VEVENT
BEGIN:VEVENT
DTSTART;TZID=Europe/London:20271005T100000
DTEND;TZID=Europe/London:20271005T120000
DTSTAMP:20260422T000508
CREATED:20240417T142255Z
LAST-MODIFIED:20240417T142255Z
UID:10004113-1822730400-1822737600@www.diversitymattersnw.org.uk
SUMMARY:Conversational ESOL
DESCRIPTION:Time: 10-12. Place: Hyde Healthy Living Centre\, 20 Great Norbury St.\, SK14 1BR. Conversational ESOL class to learn and improve English and gain confidence. For more information\, please contact: Hasina 07591572844/ hasina@diversitymattersnw.org.uk.
URL:https://www.diversitymattersnw.org.uk/event/conversational-esol/2027-10-05/
END:VEVENT
BEGIN:VEVENT
DTSTART;TZID=Europe/London:20271005T163000
DTEND;TZID=Europe/London:20271005T180000
DTSTAMP:20260422T000508
CREATED:20231212T125901Z
LAST-MODIFIED:20240308T142841Z
UID:10002789-1822753800-1822759200@www.diversitymattersnw.org.uk
SUMMARY:Kreative Kraftz (Women Only)
DESCRIPTION:Time: 4:30-6pm. Place: Hyde Healthy Living Centre. Sessions include learning to knit\, crochet\, dress making / sewing\, collage/frame making\, mehndi\, platter/canvas/candle decorating\, hijab styling and other creative skills. For details contact Nisma: 07549956567/ nisma@diversitymattersnw.org.uk
URL:https://www.diversitymattersnw.org.uk/event/kreative-kraftz-women-only-2/2027-10-05/
END:VEVENT
BEGIN:VEVENT
DTSTART;TZID=Europe/London:20271006T100000
DTEND;TZID=Europe/London:20271006T120000
DTSTAMP:20260422T000508
CREATED:20220901T082744Z
LAST-MODIFIED:20240308T143520Z
UID:10003014-1822816800-1822824000@www.diversitymattersnw.org.uk
SUMMARY:Community Learning Hub (Women Only)
DESCRIPTION:Time: 10-12pm. Place: Hyde Healthy Living Centre\, 20 Great Norbury St.\, SK14 1BR. Drop in to use our community laptop and get digital or employment support from our Learning Mentors. For more information\, please contact: Hasina 07591572844 / hasina@diversitymattersnw.org.uk
URL:https://www.diversitymattersnw.org.uk/event/wednesdays-community-learning-hub-women-only/2027-10-06/
LOCATION:Hyde Healthy Living Centre (Women Supporting Women)\, 20 Great Norbury Street\, Hyde\, SK14 1BR\, United Kingdom
END:VEVENT
BEGIN:VEVENT
DTSTART;TZID=Europe/London:20271006T110000
DTEND;TZID=Europe/London:20271006T133000
DTSTAMP:20260422T000508
CREATED:20240801T134242Z
LAST-MODIFIED:20240801T134243Z
UID:10004381-1822820400-1822829400@www.diversitymattersnw.org.uk
SUMMARY:Chayer Adda (Men Only)
DESCRIPTION:Time: 11am-1.30pm. Place: Italian Bar\, 4 The Square\, Hyde\, Sk142QR. Come along to our Chayer Adda for freshly homemade chai\, nastha and engage in wellbeing activities\, games and talks. For details contact Shibley: 07946329099 / rilly@diversitymattersnw.org.uk
URL:https://www.diversitymattersnw.org.uk/event/chayer-adda-men-only-2-3-2/2027-10-06/
LOCATION:Hyde Healthy Living Centre (Women Supporting Women)\, 20 Great Norbury Street\, Hyde\, SK14 1BR\, United Kingdom
END:VEVENT
BEGIN:VEVENT
DTSTART;TZID=Europe/London:20271007T100000
DTEND;TZID=Europe/London:20271007T113000
DTSTAMP:20260422T000508
CREATED:20240801T134334Z
LAST-MODIFIED:20240801T134334Z
UID:10003239-1822903200-1822908600@www.diversitymattersnw.org.uk
SUMMARY:Women Matters Hub
DESCRIPTION:Time: 10-11:30am. Place: Hyde Central Methodist Church. Come along and join us in our craft activities\, make new friends and engage in weekly wellbeing talks. Term time only. For more details\, please contact Shibley 07946329099 / rilly@diversitymattersnw.org.uk
URL:https://www.diversitymattersnw.org.uk/event/thursdays-women-matters-hub-2/2027-10-07/
LOCATION:Hyde Central Methodist Church\, Crook Street\, Hyde\, SK14 1NQ
END:VEVENT
BEGIN:VEVENT
DTSTART;TZID=Europe/London:20271011T100000
DTEND;TZID=Europe/London:20271011T143000
DTSTAMP:20260422T000508
CREATED:20240731T122000Z
LAST-MODIFIED:20260127T133241Z
UID:10004922-1823248800-1823265000@www.diversitymattersnw.org.uk
SUMMARY:Advice Surgery Drop in
DESCRIPTION:Mondays – Time: Term Time 10am-2.30pm School Holidays :11am-1:30pm. Place: Hyde Healthy Living Centre. If English is not your first language and you’re struggling to make appointment  / access other services\, come to our drop-in session. For more information\, please contact Nisma: 07549956567 / nisma@diversitymattersnw.org.uk or Mahmuda: 07562686183 / mahmuda@diversitymattersnw.org.uk \nPlease note during Ramadan Term Time: 10am-1.30pm\, Ramadan during School Holidays 11am-1.30pm
URL:https://www.diversitymattersnw.org.uk/event/access-support-service-drop-in-2-3/2027-10-11/
END:VEVENT
BEGIN:VEVENT
DTSTART;TZID=Europe/London:20271012T100000
DTEND;TZID=Europe/London:20271012T120000
DTSTAMP:20260422T000508
CREATED:20240417T142255Z
LAST-MODIFIED:20240417T142255Z
UID:10004114-1823335200-1823342400@www.diversitymattersnw.org.uk
SUMMARY:Conversational ESOL
DESCRIPTION:Time: 10-12. Place: Hyde Healthy Living Centre\, 20 Great Norbury St.\, SK14 1BR. Conversational ESOL class to learn and improve English and gain confidence. For more information\, please contact: Hasina 07591572844/ hasina@diversitymattersnw.org.uk.
URL:https://www.diversitymattersnw.org.uk/event/conversational-esol/2027-10-12/
END:VEVENT
BEGIN:VEVENT
DTSTART;TZID=Europe/London:20271012T163000
DTEND;TZID=Europe/London:20271012T180000
DTSTAMP:20260422T000508
CREATED:20231212T125901Z
LAST-MODIFIED:20240308T142841Z
UID:10002790-1823358600-1823364000@www.diversitymattersnw.org.uk
SUMMARY:Kreative Kraftz (Women Only)
DESCRIPTION:Time: 4:30-6pm. Place: Hyde Healthy Living Centre. Sessions include learning to knit\, crochet\, dress making / sewing\, collage/frame making\, mehndi\, platter/canvas/candle decorating\, hijab styling and other creative skills. For details contact Nisma: 07549956567/ nisma@diversitymattersnw.org.uk
URL:https://www.diversitymattersnw.org.uk/event/kreative-kraftz-women-only-2/2027-10-12/
END:VEVENT
END:VCALENDAR