BEGIN:VCALENDAR
VERSION:2.0
PRODID:-//Diversity Matters NW - ECPv6.15.20//NONSGML v1.0//EN
CALSCALE:GREGORIAN
METHOD:PUBLISH
X-WR-CALNAME:Diversity Matters NW
X-ORIGINAL-URL:https://www.diversitymattersnw.org.uk
X-WR-CALDESC:Events for Diversity Matters NW
REFRESH-INTERVAL;VALUE=DURATION:PT1H
X-Robots-Tag:noindex
X-PUBLISHED-TTL:PT1H
BEGIN:VTIMEZONE
TZID:Europe/London
BEGIN:DAYLIGHT
TZOFFSETFROM:+0000
TZOFFSETTO:+0100
TZNAME:BST
DTSTART:20250330T010000
END:DAYLIGHT
BEGIN:STANDARD
TZOFFSETFROM:+0100
TZOFFSETTO:+0000
TZNAME:GMT
DTSTART:20251026T010000
END:STANDARD
BEGIN:DAYLIGHT
TZOFFSETFROM:+0000
TZOFFSETTO:+0100
TZNAME:BST
DTSTART:20260329T010000
END:DAYLIGHT
BEGIN:STANDARD
TZOFFSETFROM:+0100
TZOFFSETTO:+0000
TZNAME:GMT
DTSTART:20261025T010000
END:STANDARD
BEGIN:DAYLIGHT
TZOFFSETFROM:+0000
TZOFFSETTO:+0100
TZNAME:BST
DTSTART:20270328T010000
END:DAYLIGHT
BEGIN:STANDARD
TZOFFSETFROM:+0100
TZOFFSETTO:+0000
TZNAME:GMT
DTSTART:20271031T010000
END:STANDARD
END:VTIMEZONE
BEGIN:VEVENT
DTSTART;TZID=Europe/London:20260430T100000
DTEND;TZID=Europe/London:20260430T113000
DTSTAMP:20260424T181345
CREATED:20240801T134334Z
LAST-MODIFIED:20240801T134334Z
UID:10003164-1777543200-1777548600@www.diversitymattersnw.org.uk
SUMMARY:Women Matters Hub
DESCRIPTION:Time: 10-11:30am. Place: Hyde Central Methodist Church. Come along and join us in our craft activities\, make new friends and engage in weekly wellbeing talks. Term time only. For more details\, please contact Shibley 07946329099 / rilly@diversitymattersnw.org.uk
URL:https://www.diversitymattersnw.org.uk/event/thursdays-women-matters-hub-2/2026-04-30/
LOCATION:Hyde Central Methodist Church\, Crook Street\, Hyde\, SK14 1NQ
END:VEVENT
BEGIN:VEVENT
DTSTART;TZID=Europe/London:20260507T100000
DTEND;TZID=Europe/London:20260507T113000
DTSTAMP:20260424T181345
CREATED:20240801T134334Z
LAST-MODIFIED:20240801T134334Z
UID:10003165-1778148000-1778153400@www.diversitymattersnw.org.uk
SUMMARY:Women Matters Hub
DESCRIPTION:Time: 10-11:30am. Place: Hyde Central Methodist Church. Come along and join us in our craft activities\, make new friends and engage in weekly wellbeing talks. Term time only. For more details\, please contact Shibley 07946329099 / rilly@diversitymattersnw.org.uk
URL:https://www.diversitymattersnw.org.uk/event/thursdays-women-matters-hub-2/2026-05-07/
LOCATION:Hyde Central Methodist Church\, Crook Street\, Hyde\, SK14 1NQ
END:VEVENT
BEGIN:VEVENT
DTSTART;TZID=Europe/London:20260514T100000
DTEND;TZID=Europe/London:20260514T113000
DTSTAMP:20260424T181345
CREATED:20240801T134334Z
LAST-MODIFIED:20240801T134334Z
UID:10003166-1778752800-1778758200@www.diversitymattersnw.org.uk
SUMMARY:Women Matters Hub
DESCRIPTION:Time: 10-11:30am. Place: Hyde Central Methodist Church. Come along and join us in our craft activities\, make new friends and engage in weekly wellbeing talks. Term time only. For more details\, please contact Shibley 07946329099 / rilly@diversitymattersnw.org.uk
URL:https://www.diversitymattersnw.org.uk/event/thursdays-women-matters-hub-2/2026-05-14/
LOCATION:Hyde Central Methodist Church\, Crook Street\, Hyde\, SK14 1NQ
END:VEVENT
BEGIN:VEVENT
DTSTART;TZID=Europe/London:20260521T100000
DTEND;TZID=Europe/London:20260521T113000
DTSTAMP:20260424T181345
CREATED:20240801T134334Z
LAST-MODIFIED:20240801T134334Z
UID:10003167-1779357600-1779363000@www.diversitymattersnw.org.uk
SUMMARY:Women Matters Hub
DESCRIPTION:Time: 10-11:30am. Place: Hyde Central Methodist Church. Come along and join us in our craft activities\, make new friends and engage in weekly wellbeing talks. Term time only. For more details\, please contact Shibley 07946329099 / rilly@diversitymattersnw.org.uk
URL:https://www.diversitymattersnw.org.uk/event/thursdays-women-matters-hub-2/2026-05-21/
LOCATION:Hyde Central Methodist Church\, Crook Street\, Hyde\, SK14 1NQ
END:VEVENT
BEGIN:VEVENT
DTSTART;TZID=Europe/London:20260528T100000
DTEND;TZID=Europe/London:20260528T113000
DTSTAMP:20260424T181345
CREATED:20240801T134334Z
LAST-MODIFIED:20240801T134334Z
UID:10003168-1779962400-1779967800@www.diversitymattersnw.org.uk
SUMMARY:Women Matters Hub
DESCRIPTION:Time: 10-11:30am. Place: Hyde Central Methodist Church. Come along and join us in our craft activities\, make new friends and engage in weekly wellbeing talks. Term time only. For more details\, please contact Shibley 07946329099 / rilly@diversitymattersnw.org.uk
URL:https://www.diversitymattersnw.org.uk/event/thursdays-women-matters-hub-2/2026-05-28/
LOCATION:Hyde Central Methodist Church\, Crook Street\, Hyde\, SK14 1NQ
END:VEVENT
BEGIN:VEVENT
DTSTART;TZID=Europe/London:20260604T100000
DTEND;TZID=Europe/London:20260604T113000
DTSTAMP:20260424T181345
CREATED:20240801T134334Z
LAST-MODIFIED:20240801T134334Z
UID:10003169-1780567200-1780572600@www.diversitymattersnw.org.uk
SUMMARY:Women Matters Hub
DESCRIPTION:Time: 10-11:30am. Place: Hyde Central Methodist Church. Come along and join us in our craft activities\, make new friends and engage in weekly wellbeing talks. Term time only. For more details\, please contact Shibley 07946329099 / rilly@diversitymattersnw.org.uk
URL:https://www.diversitymattersnw.org.uk/event/thursdays-women-matters-hub-2/2026-06-04/
LOCATION:Hyde Central Methodist Church\, Crook Street\, Hyde\, SK14 1NQ
END:VEVENT
BEGIN:VEVENT
DTSTART;TZID=Europe/London:20260611T100000
DTEND;TZID=Europe/London:20260611T113000
DTSTAMP:20260424T181345
CREATED:20240801T134334Z
LAST-MODIFIED:20240801T134334Z
UID:10003170-1781172000-1781177400@www.diversitymattersnw.org.uk
SUMMARY:Women Matters Hub
DESCRIPTION:Time: 10-11:30am. Place: Hyde Central Methodist Church. Come along and join us in our craft activities\, make new friends and engage in weekly wellbeing talks. Term time only. For more details\, please contact Shibley 07946329099 / rilly@diversitymattersnw.org.uk
URL:https://www.diversitymattersnw.org.uk/event/thursdays-women-matters-hub-2/2026-06-11/
LOCATION:Hyde Central Methodist Church\, Crook Street\, Hyde\, SK14 1NQ
END:VEVENT
BEGIN:VEVENT
DTSTART;TZID=Europe/London:20260618T100000
DTEND;TZID=Europe/London:20260618T113000
DTSTAMP:20260424T181345
CREATED:20240801T134334Z
LAST-MODIFIED:20240801T134334Z
UID:10003171-1781776800-1781782200@www.diversitymattersnw.org.uk
SUMMARY:Women Matters Hub
DESCRIPTION:Time: 10-11:30am. Place: Hyde Central Methodist Church. Come along and join us in our craft activities\, make new friends and engage in weekly wellbeing talks. Term time only. For more details\, please contact Shibley 07946329099 / rilly@diversitymattersnw.org.uk
URL:https://www.diversitymattersnw.org.uk/event/thursdays-women-matters-hub-2/2026-06-18/
LOCATION:Hyde Central Methodist Church\, Crook Street\, Hyde\, SK14 1NQ
END:VEVENT
BEGIN:VEVENT
DTSTART;TZID=Europe/London:20260625T100000
DTEND;TZID=Europe/London:20260625T113000
DTSTAMP:20260424T181345
CREATED:20240801T134334Z
LAST-MODIFIED:20240801T134334Z
UID:10003172-1782381600-1782387000@www.diversitymattersnw.org.uk
SUMMARY:Women Matters Hub
DESCRIPTION:Time: 10-11:30am. Place: Hyde Central Methodist Church. Come along and join us in our craft activities\, make new friends and engage in weekly wellbeing talks. Term time only. For more details\, please contact Shibley 07946329099 / rilly@diversitymattersnw.org.uk
URL:https://www.diversitymattersnw.org.uk/event/thursdays-women-matters-hub-2/2026-06-25/
LOCATION:Hyde Central Methodist Church\, Crook Street\, Hyde\, SK14 1NQ
END:VEVENT
BEGIN:VEVENT
DTSTART;TZID=Europe/London:20260702T100000
DTEND;TZID=Europe/London:20260702T113000
DTSTAMP:20260424T181345
CREATED:20240801T134334Z
LAST-MODIFIED:20240801T134334Z
UID:10003173-1782986400-1782991800@www.diversitymattersnw.org.uk
SUMMARY:Women Matters Hub
DESCRIPTION:Time: 10-11:30am. Place: Hyde Central Methodist Church. Come along and join us in our craft activities\, make new friends and engage in weekly wellbeing talks. Term time only. For more details\, please contact Shibley 07946329099 / rilly@diversitymattersnw.org.uk
URL:https://www.diversitymattersnw.org.uk/event/thursdays-women-matters-hub-2/2026-07-02/
LOCATION:Hyde Central Methodist Church\, Crook Street\, Hyde\, SK14 1NQ
END:VEVENT
BEGIN:VEVENT
DTSTART;TZID=Europe/London:20260709T100000
DTEND;TZID=Europe/London:20260709T113000
DTSTAMP:20260424T181345
CREATED:20240801T134334Z
LAST-MODIFIED:20240801T134334Z
UID:10003174-1783591200-1783596600@www.diversitymattersnw.org.uk
SUMMARY:Women Matters Hub
DESCRIPTION:Time: 10-11:30am. Place: Hyde Central Methodist Church. Come along and join us in our craft activities\, make new friends and engage in weekly wellbeing talks. Term time only. For more details\, please contact Shibley 07946329099 / rilly@diversitymattersnw.org.uk
URL:https://www.diversitymattersnw.org.uk/event/thursdays-women-matters-hub-2/2026-07-09/
LOCATION:Hyde Central Methodist Church\, Crook Street\, Hyde\, SK14 1NQ
END:VEVENT
BEGIN:VEVENT
DTSTART;TZID=Europe/London:20260716T100000
DTEND;TZID=Europe/London:20260716T113000
DTSTAMP:20260424T181345
CREATED:20240801T134334Z
LAST-MODIFIED:20240801T134334Z
UID:10003175-1784196000-1784201400@www.diversitymattersnw.org.uk
SUMMARY:Women Matters Hub
DESCRIPTION:Time: 10-11:30am. Place: Hyde Central Methodist Church. Come along and join us in our craft activities\, make new friends and engage in weekly wellbeing talks. Term time only. For more details\, please contact Shibley 07946329099 / rilly@diversitymattersnw.org.uk
URL:https://www.diversitymattersnw.org.uk/event/thursdays-women-matters-hub-2/2026-07-16/
LOCATION:Hyde Central Methodist Church\, Crook Street\, Hyde\, SK14 1NQ
END:VEVENT
BEGIN:VEVENT
DTSTART;TZID=Europe/London:20260723T100000
DTEND;TZID=Europe/London:20260723T113000
DTSTAMP:20260424T181345
CREATED:20240801T134334Z
LAST-MODIFIED:20240801T134334Z
UID:10003176-1784800800-1784806200@www.diversitymattersnw.org.uk
SUMMARY:Women Matters Hub
DESCRIPTION:Time: 10-11:30am. Place: Hyde Central Methodist Church. Come along and join us in our craft activities\, make new friends and engage in weekly wellbeing talks. Term time only. For more details\, please contact Shibley 07946329099 / rilly@diversitymattersnw.org.uk
URL:https://www.diversitymattersnw.org.uk/event/thursdays-women-matters-hub-2/2026-07-23/
LOCATION:Hyde Central Methodist Church\, Crook Street\, Hyde\, SK14 1NQ
END:VEVENT
BEGIN:VEVENT
DTSTART;TZID=Europe/London:20260730T100000
DTEND;TZID=Europe/London:20260730T113000
DTSTAMP:20260424T181345
CREATED:20240801T134334Z
LAST-MODIFIED:20240801T134334Z
UID:10003177-1785405600-1785411000@www.diversitymattersnw.org.uk
SUMMARY:Women Matters Hub
DESCRIPTION:Time: 10-11:30am. Place: Hyde Central Methodist Church. Come along and join us in our craft activities\, make new friends and engage in weekly wellbeing talks. Term time only. For more details\, please contact Shibley 07946329099 / rilly@diversitymattersnw.org.uk
URL:https://www.diversitymattersnw.org.uk/event/thursdays-women-matters-hub-2/2026-07-30/
LOCATION:Hyde Central Methodist Church\, Crook Street\, Hyde\, SK14 1NQ
END:VEVENT
BEGIN:VEVENT
DTSTART;TZID=Europe/London:20260806T100000
DTEND;TZID=Europe/London:20260806T113000
DTSTAMP:20260424T181345
CREATED:20240801T134334Z
LAST-MODIFIED:20240801T134334Z
UID:10003178-1786010400-1786015800@www.diversitymattersnw.org.uk
SUMMARY:Women Matters Hub
DESCRIPTION:Time: 10-11:30am. Place: Hyde Central Methodist Church. Come along and join us in our craft activities\, make new friends and engage in weekly wellbeing talks. Term time only. For more details\, please contact Shibley 07946329099 / rilly@diversitymattersnw.org.uk
URL:https://www.diversitymattersnw.org.uk/event/thursdays-women-matters-hub-2/2026-08-06/
LOCATION:Hyde Central Methodist Church\, Crook Street\, Hyde\, SK14 1NQ
END:VEVENT
BEGIN:VEVENT
DTSTART;TZID=Europe/London:20260813T100000
DTEND;TZID=Europe/London:20260813T113000
DTSTAMP:20260424T181345
CREATED:20240801T134334Z
LAST-MODIFIED:20240801T134334Z
UID:10003179-1786615200-1786620600@www.diversitymattersnw.org.uk
SUMMARY:Women Matters Hub
DESCRIPTION:Time: 10-11:30am. Place: Hyde Central Methodist Church. Come along and join us in our craft activities\, make new friends and engage in weekly wellbeing talks. Term time only. For more details\, please contact Shibley 07946329099 / rilly@diversitymattersnw.org.uk
URL:https://www.diversitymattersnw.org.uk/event/thursdays-women-matters-hub-2/2026-08-13/
LOCATION:Hyde Central Methodist Church\, Crook Street\, Hyde\, SK14 1NQ
END:VEVENT
BEGIN:VEVENT
DTSTART;TZID=Europe/London:20260820T100000
DTEND;TZID=Europe/London:20260820T113000
DTSTAMP:20260424T181345
CREATED:20240801T134334Z
LAST-MODIFIED:20240801T134334Z
UID:10003180-1787220000-1787225400@www.diversitymattersnw.org.uk
SUMMARY:Women Matters Hub
DESCRIPTION:Time: 10-11:30am. Place: Hyde Central Methodist Church. Come along and join us in our craft activities\, make new friends and engage in weekly wellbeing talks. Term time only. For more details\, please contact Shibley 07946329099 / rilly@diversitymattersnw.org.uk
URL:https://www.diversitymattersnw.org.uk/event/thursdays-women-matters-hub-2/2026-08-20/
LOCATION:Hyde Central Methodist Church\, Crook Street\, Hyde\, SK14 1NQ
END:VEVENT
BEGIN:VEVENT
DTSTART;TZID=Europe/London:20260827T100000
DTEND;TZID=Europe/London:20260827T113000
DTSTAMP:20260424T181345
CREATED:20240801T134334Z
LAST-MODIFIED:20240801T134334Z
UID:10003181-1787824800-1787830200@www.diversitymattersnw.org.uk
SUMMARY:Women Matters Hub
DESCRIPTION:Time: 10-11:30am. Place: Hyde Central Methodist Church. Come along and join us in our craft activities\, make new friends and engage in weekly wellbeing talks. Term time only. For more details\, please contact Shibley 07946329099 / rilly@diversitymattersnw.org.uk
URL:https://www.diversitymattersnw.org.uk/event/thursdays-women-matters-hub-2/2026-08-27/
LOCATION:Hyde Central Methodist Church\, Crook Street\, Hyde\, SK14 1NQ
END:VEVENT
BEGIN:VEVENT
DTSTART;TZID=Europe/London:20260903T100000
DTEND;TZID=Europe/London:20260903T113000
DTSTAMP:20260424T181345
CREATED:20240801T134334Z
LAST-MODIFIED:20240801T134334Z
UID:10003182-1788429600-1788435000@www.diversitymattersnw.org.uk
SUMMARY:Women Matters Hub
DESCRIPTION:Time: 10-11:30am. Place: Hyde Central Methodist Church. Come along and join us in our craft activities\, make new friends and engage in weekly wellbeing talks. Term time only. For more details\, please contact Shibley 07946329099 / rilly@diversitymattersnw.org.uk
URL:https://www.diversitymattersnw.org.uk/event/thursdays-women-matters-hub-2/2026-09-03/
LOCATION:Hyde Central Methodist Church\, Crook Street\, Hyde\, SK14 1NQ
END:VEVENT
BEGIN:VEVENT
DTSTART;TZID=Europe/London:20260910T100000
DTEND;TZID=Europe/London:20260910T113000
DTSTAMP:20260424T181345
CREATED:20240801T134334Z
LAST-MODIFIED:20240801T134334Z
UID:10003183-1789034400-1789039800@www.diversitymattersnw.org.uk
SUMMARY:Women Matters Hub
DESCRIPTION:Time: 10-11:30am. Place: Hyde Central Methodist Church. Come along and join us in our craft activities\, make new friends and engage in weekly wellbeing talks. Term time only. For more details\, please contact Shibley 07946329099 / rilly@diversitymattersnw.org.uk
URL:https://www.diversitymattersnw.org.uk/event/thursdays-women-matters-hub-2/2026-09-10/
LOCATION:Hyde Central Methodist Church\, Crook Street\, Hyde\, SK14 1NQ
END:VEVENT
BEGIN:VEVENT
DTSTART;TZID=Europe/London:20260917T100000
DTEND;TZID=Europe/London:20260917T113000
DTSTAMP:20260424T181345
CREATED:20240801T134334Z
LAST-MODIFIED:20240801T134334Z
UID:10003184-1789639200-1789644600@www.diversitymattersnw.org.uk
SUMMARY:Women Matters Hub
DESCRIPTION:Time: 10-11:30am. Place: Hyde Central Methodist Church. Come along and join us in our craft activities\, make new friends and engage in weekly wellbeing talks. Term time only. For more details\, please contact Shibley 07946329099 / rilly@diversitymattersnw.org.uk
URL:https://www.diversitymattersnw.org.uk/event/thursdays-women-matters-hub-2/2026-09-17/
LOCATION:Hyde Central Methodist Church\, Crook Street\, Hyde\, SK14 1NQ
END:VEVENT
BEGIN:VEVENT
DTSTART;TZID=Europe/London:20260924T100000
DTEND;TZID=Europe/London:20260924T113000
DTSTAMP:20260424T181345
CREATED:20240801T134334Z
LAST-MODIFIED:20240801T134334Z
UID:10003185-1790244000-1790249400@www.diversitymattersnw.org.uk
SUMMARY:Women Matters Hub
DESCRIPTION:Time: 10-11:30am. Place: Hyde Central Methodist Church. Come along and join us in our craft activities\, make new friends and engage in weekly wellbeing talks. Term time only. For more details\, please contact Shibley 07946329099 / rilly@diversitymattersnw.org.uk
URL:https://www.diversitymattersnw.org.uk/event/thursdays-women-matters-hub-2/2026-09-24/
LOCATION:Hyde Central Methodist Church\, Crook Street\, Hyde\, SK14 1NQ
END:VEVENT
BEGIN:VEVENT
DTSTART;TZID=Europe/London:20261001T100000
DTEND;TZID=Europe/London:20261001T113000
DTSTAMP:20260424T181345
CREATED:20240801T134334Z
LAST-MODIFIED:20240801T134334Z
UID:10003186-1790848800-1790854200@www.diversitymattersnw.org.uk
SUMMARY:Women Matters Hub
DESCRIPTION:Time: 10-11:30am. Place: Hyde Central Methodist Church. Come along and join us in our craft activities\, make new friends and engage in weekly wellbeing talks. Term time only. For more details\, please contact Shibley 07946329099 / rilly@diversitymattersnw.org.uk
URL:https://www.diversitymattersnw.org.uk/event/thursdays-women-matters-hub-2/2026-10-01/
LOCATION:Hyde Central Methodist Church\, Crook Street\, Hyde\, SK14 1NQ
END:VEVENT
BEGIN:VEVENT
DTSTART;TZID=Europe/London:20261008T100000
DTEND;TZID=Europe/London:20261008T113000
DTSTAMP:20260424T181345
CREATED:20240801T134334Z
LAST-MODIFIED:20240801T134334Z
UID:10003187-1791453600-1791459000@www.diversitymattersnw.org.uk
SUMMARY:Women Matters Hub
DESCRIPTION:Time: 10-11:30am. Place: Hyde Central Methodist Church. Come along and join us in our craft activities\, make new friends and engage in weekly wellbeing talks. Term time only. For more details\, please contact Shibley 07946329099 / rilly@diversitymattersnw.org.uk
URL:https://www.diversitymattersnw.org.uk/event/thursdays-women-matters-hub-2/2026-10-08/
LOCATION:Hyde Central Methodist Church\, Crook Street\, Hyde\, SK14 1NQ
END:VEVENT
BEGIN:VEVENT
DTSTART;TZID=Europe/London:20261015T100000
DTEND;TZID=Europe/London:20261015T113000
DTSTAMP:20260424T181345
CREATED:20240801T134334Z
LAST-MODIFIED:20240801T134334Z
UID:10003188-1792058400-1792063800@www.diversitymattersnw.org.uk
SUMMARY:Women Matters Hub
DESCRIPTION:Time: 10-11:30am. Place: Hyde Central Methodist Church. Come along and join us in our craft activities\, make new friends and engage in weekly wellbeing talks. Term time only. For more details\, please contact Shibley 07946329099 / rilly@diversitymattersnw.org.uk
URL:https://www.diversitymattersnw.org.uk/event/thursdays-women-matters-hub-2/2026-10-15/
LOCATION:Hyde Central Methodist Church\, Crook Street\, Hyde\, SK14 1NQ
END:VEVENT
BEGIN:VEVENT
DTSTART;TZID=Europe/London:20261022T100000
DTEND;TZID=Europe/London:20261022T113000
DTSTAMP:20260424T181345
CREATED:20240801T134334Z
LAST-MODIFIED:20240801T134334Z
UID:10003189-1792663200-1792668600@www.diversitymattersnw.org.uk
SUMMARY:Women Matters Hub
DESCRIPTION:Time: 10-11:30am. Place: Hyde Central Methodist Church. Come along and join us in our craft activities\, make new friends and engage in weekly wellbeing talks. Term time only. For more details\, please contact Shibley 07946329099 / rilly@diversitymattersnw.org.uk
URL:https://www.diversitymattersnw.org.uk/event/thursdays-women-matters-hub-2/2026-10-22/
LOCATION:Hyde Central Methodist Church\, Crook Street\, Hyde\, SK14 1NQ
END:VEVENT
BEGIN:VEVENT
DTSTART;TZID=Europe/London:20261029T100000
DTEND;TZID=Europe/London:20261029T113000
DTSTAMP:20260424T181345
CREATED:20240801T134334Z
LAST-MODIFIED:20240801T134334Z
UID:10003190-1793268000-1793273400@www.diversitymattersnw.org.uk
SUMMARY:Women Matters Hub
DESCRIPTION:Time: 10-11:30am. Place: Hyde Central Methodist Church. Come along and join us in our craft activities\, make new friends and engage in weekly wellbeing talks. Term time only. For more details\, please contact Shibley 07946329099 / rilly@diversitymattersnw.org.uk
URL:https://www.diversitymattersnw.org.uk/event/thursdays-women-matters-hub-2/2026-10-29/
LOCATION:Hyde Central Methodist Church\, Crook Street\, Hyde\, SK14 1NQ
END:VEVENT
BEGIN:VEVENT
DTSTART;TZID=Europe/London:20261105T100000
DTEND;TZID=Europe/London:20261105T113000
DTSTAMP:20260424T181345
CREATED:20240801T134334Z
LAST-MODIFIED:20240801T134334Z
UID:10003191-1793872800-1793878200@www.diversitymattersnw.org.uk
SUMMARY:Women Matters Hub
DESCRIPTION:Time: 10-11:30am. Place: Hyde Central Methodist Church. Come along and join us in our craft activities\, make new friends and engage in weekly wellbeing talks. Term time only. For more details\, please contact Shibley 07946329099 / rilly@diversitymattersnw.org.uk
URL:https://www.diversitymattersnw.org.uk/event/thursdays-women-matters-hub-2/2026-11-05/
LOCATION:Hyde Central Methodist Church\, Crook Street\, Hyde\, SK14 1NQ
END:VEVENT
BEGIN:VEVENT
DTSTART;TZID=Europe/London:20261112T100000
DTEND;TZID=Europe/London:20261112T113000
DTSTAMP:20260424T181345
CREATED:20240801T134334Z
LAST-MODIFIED:20240801T134334Z
UID:10003192-1794477600-1794483000@www.diversitymattersnw.org.uk
SUMMARY:Women Matters Hub
DESCRIPTION:Time: 10-11:30am. Place: Hyde Central Methodist Church. Come along and join us in our craft activities\, make new friends and engage in weekly wellbeing talks. Term time only. For more details\, please contact Shibley 07946329099 / rilly@diversitymattersnw.org.uk
URL:https://www.diversitymattersnw.org.uk/event/thursdays-women-matters-hub-2/2026-11-12/
LOCATION:Hyde Central Methodist Church\, Crook Street\, Hyde\, SK14 1NQ
END:VEVENT
BEGIN:VEVENT
DTSTART;TZID=Europe/London:20261119T100000
DTEND;TZID=Europe/London:20261119T113000
DTSTAMP:20260424T181345
CREATED:20240801T134334Z
LAST-MODIFIED:20240801T134334Z
UID:10003193-1795082400-1795087800@www.diversitymattersnw.org.uk
SUMMARY:Women Matters Hub
DESCRIPTION:Time: 10-11:30am. Place: Hyde Central Methodist Church. Come along and join us in our craft activities\, make new friends and engage in weekly wellbeing talks. Term time only. For more details\, please contact Shibley 07946329099 / rilly@diversitymattersnw.org.uk
URL:https://www.diversitymattersnw.org.uk/event/thursdays-women-matters-hub-2/2026-11-19/
LOCATION:Hyde Central Methodist Church\, Crook Street\, Hyde\, SK14 1NQ
END:VEVENT
END:VCALENDAR