BEGIN:VCALENDAR
VERSION:2.0
PRODID:-//Diversity Matters NW - ECPv6.15.20//NONSGML v1.0//EN
CALSCALE:GREGORIAN
METHOD:PUBLISH
X-WR-CALNAME:Diversity Matters NW
X-ORIGINAL-URL:https://www.diversitymattersnw.org.uk
X-WR-CALDESC:Events for Diversity Matters NW
REFRESH-INTERVAL;VALUE=DURATION:PT1H
X-Robots-Tag:noindex
X-PUBLISHED-TTL:PT1H
BEGIN:VTIMEZONE
TZID:Europe/London
BEGIN:DAYLIGHT
TZOFFSETFROM:+0000
TZOFFSETTO:+0100
TZNAME:BST
DTSTART:20260329T010000
END:DAYLIGHT
BEGIN:STANDARD
TZOFFSETFROM:+0100
TZOFFSETTO:+0000
TZNAME:GMT
DTSTART:20261025T010000
END:STANDARD
BEGIN:DAYLIGHT
TZOFFSETFROM:+0000
TZOFFSETTO:+0100
TZNAME:BST
DTSTART:20270328T010000
END:DAYLIGHT
BEGIN:STANDARD
TZOFFSETFROM:+0100
TZOFFSETTO:+0000
TZNAME:GMT
DTSTART:20271031T010000
END:STANDARD
BEGIN:DAYLIGHT
TZOFFSETFROM:+0000
TZOFFSETTO:+0100
TZNAME:BST
DTSTART:20280326T010000
END:DAYLIGHT
BEGIN:STANDARD
TZOFFSETFROM:+0100
TZOFFSETTO:+0000
TZNAME:GMT
DTSTART:20281029T010000
END:STANDARD
END:VTIMEZONE
BEGIN:VEVENT
DTSTART;TZID=Europe/London:20271006T100000
DTEND;TZID=Europe/London:20271006T120000
DTSTAMP:20260422T014431
CREATED:20220901T082744Z
LAST-MODIFIED:20240308T143520Z
UID:10003014-1822816800-1822824000@www.diversitymattersnw.org.uk
SUMMARY:Community Learning Hub (Women Only)
DESCRIPTION:Time: 10-12pm. Place: Hyde Healthy Living Centre\, 20 Great Norbury St.\, SK14 1BR. Drop in to use our community laptop and get digital or employment support from our Learning Mentors. For more information\, please contact: Hasina 07591572844 / hasina@diversitymattersnw.org.uk
URL:https://www.diversitymattersnw.org.uk/event/wednesdays-community-learning-hub-women-only/2027-10-06/
LOCATION:Hyde Healthy Living Centre (Women Supporting Women)\, 20 Great Norbury Street\, Hyde\, SK14 1BR\, United Kingdom
END:VEVENT
BEGIN:VEVENT
DTSTART;TZID=Europe/London:20271006T110000
DTEND;TZID=Europe/London:20271006T133000
DTSTAMP:20260422T014431
CREATED:20240801T134242Z
LAST-MODIFIED:20240801T134243Z
UID:10004381-1822820400-1822829400@www.diversitymattersnw.org.uk
SUMMARY:Chayer Adda (Men Only)
DESCRIPTION:Time: 11am-1.30pm. Place: Italian Bar\, 4 The Square\, Hyde\, Sk142QR. Come along to our Chayer Adda for freshly homemade chai\, nastha and engage in wellbeing activities\, games and talks. For details contact Shibley: 07946329099 / rilly@diversitymattersnw.org.uk
URL:https://www.diversitymattersnw.org.uk/event/chayer-adda-men-only-2-3-2/2027-10-06/
LOCATION:Hyde Healthy Living Centre (Women Supporting Women)\, 20 Great Norbury Street\, Hyde\, SK14 1BR\, United Kingdom
END:VEVENT
BEGIN:VEVENT
DTSTART;TZID=Europe/London:20271007T100000
DTEND;TZID=Europe/London:20271007T113000
DTSTAMP:20260422T014431
CREATED:20240801T134334Z
LAST-MODIFIED:20240801T134334Z
UID:10003239-1822903200-1822908600@www.diversitymattersnw.org.uk
SUMMARY:Women Matters Hub
DESCRIPTION:Time: 10-11:30am. Place: Hyde Central Methodist Church. Come along and join us in our craft activities\, make new friends and engage in weekly wellbeing talks. Term time only. For more details\, please contact Shibley 07946329099 / rilly@diversitymattersnw.org.uk
URL:https://www.diversitymattersnw.org.uk/event/thursdays-women-matters-hub-2/2027-10-07/
LOCATION:Hyde Central Methodist Church\, Crook Street\, Hyde\, SK14 1NQ
END:VEVENT
BEGIN:VEVENT
DTSTART;TZID=Europe/London:20271011T100000
DTEND;TZID=Europe/London:20271011T143000
DTSTAMP:20260422T014431
CREATED:20240731T122000Z
LAST-MODIFIED:20260127T133241Z
UID:10004922-1823248800-1823265000@www.diversitymattersnw.org.uk
SUMMARY:Advice Surgery Drop in
DESCRIPTION:Mondays – Time: Term Time 10am-2.30pm School Holidays :11am-1:30pm. Place: Hyde Healthy Living Centre. If English is not your first language and you’re struggling to make appointment  / access other services\, come to our drop-in session. For more information\, please contact Nisma: 07549956567 / nisma@diversitymattersnw.org.uk or Mahmuda: 07562686183 / mahmuda@diversitymattersnw.org.uk \nPlease note during Ramadan Term Time: 10am-1.30pm\, Ramadan during School Holidays 11am-1.30pm
URL:https://www.diversitymattersnw.org.uk/event/access-support-service-drop-in-2-3/2027-10-11/
END:VEVENT
BEGIN:VEVENT
DTSTART;TZID=Europe/London:20271012T100000
DTEND;TZID=Europe/London:20271012T120000
DTSTAMP:20260422T014431
CREATED:20240417T142255Z
LAST-MODIFIED:20240417T142255Z
UID:10004114-1823335200-1823342400@www.diversitymattersnw.org.uk
SUMMARY:Conversational ESOL
DESCRIPTION:Time: 10-12. Place: Hyde Healthy Living Centre\, 20 Great Norbury St.\, SK14 1BR. Conversational ESOL class to learn and improve English and gain confidence. For more information\, please contact: Hasina 07591572844/ hasina@diversitymattersnw.org.uk.
URL:https://www.diversitymattersnw.org.uk/event/conversational-esol/2027-10-12/
END:VEVENT
BEGIN:VEVENT
DTSTART;TZID=Europe/London:20271012T163000
DTEND;TZID=Europe/London:20271012T180000
DTSTAMP:20260422T014431
CREATED:20231212T125901Z
LAST-MODIFIED:20240308T142841Z
UID:10002790-1823358600-1823364000@www.diversitymattersnw.org.uk
SUMMARY:Kreative Kraftz (Women Only)
DESCRIPTION:Time: 4:30-6pm. Place: Hyde Healthy Living Centre. Sessions include learning to knit\, crochet\, dress making / sewing\, collage/frame making\, mehndi\, platter/canvas/candle decorating\, hijab styling and other creative skills. For details contact Nisma: 07549956567/ nisma@diversitymattersnw.org.uk
URL:https://www.diversitymattersnw.org.uk/event/kreative-kraftz-women-only-2/2027-10-12/
END:VEVENT
BEGIN:VEVENT
DTSTART;TZID=Europe/London:20271013T100000
DTEND;TZID=Europe/London:20271013T120000
DTSTAMP:20260422T014431
CREATED:20220901T082744Z
LAST-MODIFIED:20240308T143520Z
UID:10003015-1823421600-1823428800@www.diversitymattersnw.org.uk
SUMMARY:Community Learning Hub (Women Only)
DESCRIPTION:Time: 10-12pm. Place: Hyde Healthy Living Centre\, 20 Great Norbury St.\, SK14 1BR. Drop in to use our community laptop and get digital or employment support from our Learning Mentors. For more information\, please contact: Hasina 07591572844 / hasina@diversitymattersnw.org.uk
URL:https://www.diversitymattersnw.org.uk/event/wednesdays-community-learning-hub-women-only/2027-10-13/
LOCATION:Hyde Healthy Living Centre (Women Supporting Women)\, 20 Great Norbury Street\, Hyde\, SK14 1BR\, United Kingdom
END:VEVENT
BEGIN:VEVENT
DTSTART;TZID=Europe/London:20271013T110000
DTEND;TZID=Europe/London:20271013T133000
DTSTAMP:20260422T014431
CREATED:20240801T134242Z
LAST-MODIFIED:20240801T134243Z
UID:10004382-1823425200-1823434200@www.diversitymattersnw.org.uk
SUMMARY:Chayer Adda (Men Only)
DESCRIPTION:Time: 11am-1.30pm. Place: Italian Bar\, 4 The Square\, Hyde\, Sk142QR. Come along to our Chayer Adda for freshly homemade chai\, nastha and engage in wellbeing activities\, games and talks. For details contact Shibley: 07946329099 / rilly@diversitymattersnw.org.uk
URL:https://www.diversitymattersnw.org.uk/event/chayer-adda-men-only-2-3-2/2027-10-13/
LOCATION:Hyde Healthy Living Centre (Women Supporting Women)\, 20 Great Norbury Street\, Hyde\, SK14 1BR\, United Kingdom
END:VEVENT
BEGIN:VEVENT
DTSTART;TZID=Europe/London:20271014T100000
DTEND;TZID=Europe/London:20271014T113000
DTSTAMP:20260422T014431
CREATED:20240801T134334Z
LAST-MODIFIED:20240801T134334Z
UID:10003240-1823508000-1823513400@www.diversitymattersnw.org.uk
SUMMARY:Women Matters Hub
DESCRIPTION:Time: 10-11:30am. Place: Hyde Central Methodist Church. Come along and join us in our craft activities\, make new friends and engage in weekly wellbeing talks. Term time only. For more details\, please contact Shibley 07946329099 / rilly@diversitymattersnw.org.uk
URL:https://www.diversitymattersnw.org.uk/event/thursdays-women-matters-hub-2/2027-10-14/
LOCATION:Hyde Central Methodist Church\, Crook Street\, Hyde\, SK14 1NQ
END:VEVENT
BEGIN:VEVENT
DTSTART;TZID=Europe/London:20271018T100000
DTEND;TZID=Europe/London:20271018T143000
DTSTAMP:20260422T014431
CREATED:20240731T122000Z
LAST-MODIFIED:20260127T133241Z
UID:10004923-1823853600-1823869800@www.diversitymattersnw.org.uk
SUMMARY:Advice Surgery Drop in
DESCRIPTION:Mondays – Time: Term Time 10am-2.30pm School Holidays :11am-1:30pm. Place: Hyde Healthy Living Centre. If English is not your first language and you’re struggling to make appointment  / access other services\, come to our drop-in session. For more information\, please contact Nisma: 07549956567 / nisma@diversitymattersnw.org.uk or Mahmuda: 07562686183 / mahmuda@diversitymattersnw.org.uk \nPlease note during Ramadan Term Time: 10am-1.30pm\, Ramadan during School Holidays 11am-1.30pm
URL:https://www.diversitymattersnw.org.uk/event/access-support-service-drop-in-2-3/2027-10-18/
END:VEVENT
BEGIN:VEVENT
DTSTART;TZID=Europe/London:20271019T100000
DTEND;TZID=Europe/London:20271019T120000
DTSTAMP:20260422T014431
CREATED:20240417T142255Z
LAST-MODIFIED:20240417T142255Z
UID:10004115-1823940000-1823947200@www.diversitymattersnw.org.uk
SUMMARY:Conversational ESOL
DESCRIPTION:Time: 10-12. Place: Hyde Healthy Living Centre\, 20 Great Norbury St.\, SK14 1BR. Conversational ESOL class to learn and improve English and gain confidence. For more information\, please contact: Hasina 07591572844/ hasina@diversitymattersnw.org.uk.
URL:https://www.diversitymattersnw.org.uk/event/conversational-esol/2027-10-19/
END:VEVENT
BEGIN:VEVENT
DTSTART;TZID=Europe/London:20271019T163000
DTEND;TZID=Europe/London:20271019T180000
DTSTAMP:20260422T014431
CREATED:20231212T125901Z
LAST-MODIFIED:20240308T142841Z
UID:10002791-1823963400-1823968800@www.diversitymattersnw.org.uk
SUMMARY:Kreative Kraftz (Women Only)
DESCRIPTION:Time: 4:30-6pm. Place: Hyde Healthy Living Centre. Sessions include learning to knit\, crochet\, dress making / sewing\, collage/frame making\, mehndi\, platter/canvas/candle decorating\, hijab styling and other creative skills. For details contact Nisma: 07549956567/ nisma@diversitymattersnw.org.uk
URL:https://www.diversitymattersnw.org.uk/event/kreative-kraftz-women-only-2/2027-10-19/
END:VEVENT
BEGIN:VEVENT
DTSTART;TZID=Europe/London:20271020T100000
DTEND;TZID=Europe/London:20271020T120000
DTSTAMP:20260422T014431
CREATED:20220901T082744Z
LAST-MODIFIED:20240308T143520Z
UID:10003016-1824026400-1824033600@www.diversitymattersnw.org.uk
SUMMARY:Community Learning Hub (Women Only)
DESCRIPTION:Time: 10-12pm. Place: Hyde Healthy Living Centre\, 20 Great Norbury St.\, SK14 1BR. Drop in to use our community laptop and get digital or employment support from our Learning Mentors. For more information\, please contact: Hasina 07591572844 / hasina@diversitymattersnw.org.uk
URL:https://www.diversitymattersnw.org.uk/event/wednesdays-community-learning-hub-women-only/2027-10-20/
LOCATION:Hyde Healthy Living Centre (Women Supporting Women)\, 20 Great Norbury Street\, Hyde\, SK14 1BR\, United Kingdom
END:VEVENT
BEGIN:VEVENT
DTSTART;TZID=Europe/London:20271020T110000
DTEND;TZID=Europe/London:20271020T133000
DTSTAMP:20260422T014431
CREATED:20240801T134242Z
LAST-MODIFIED:20240801T134243Z
UID:10004383-1824030000-1824039000@www.diversitymattersnw.org.uk
SUMMARY:Chayer Adda (Men Only)
DESCRIPTION:Time: 11am-1.30pm. Place: Italian Bar\, 4 The Square\, Hyde\, Sk142QR. Come along to our Chayer Adda for freshly homemade chai\, nastha and engage in wellbeing activities\, games and talks. For details contact Shibley: 07946329099 / rilly@diversitymattersnw.org.uk
URL:https://www.diversitymattersnw.org.uk/event/chayer-adda-men-only-2-3-2/2027-10-20/
LOCATION:Hyde Healthy Living Centre (Women Supporting Women)\, 20 Great Norbury Street\, Hyde\, SK14 1BR\, United Kingdom
END:VEVENT
BEGIN:VEVENT
DTSTART;TZID=Europe/London:20271021T100000
DTEND;TZID=Europe/London:20271021T113000
DTSTAMP:20260422T014431
CREATED:20240801T134334Z
LAST-MODIFIED:20240801T134334Z
UID:10003241-1824112800-1824118200@www.diversitymattersnw.org.uk
SUMMARY:Women Matters Hub
DESCRIPTION:Time: 10-11:30am. Place: Hyde Central Methodist Church. Come along and join us in our craft activities\, make new friends and engage in weekly wellbeing talks. Term time only. For more details\, please contact Shibley 07946329099 / rilly@diversitymattersnw.org.uk
URL:https://www.diversitymattersnw.org.uk/event/thursdays-women-matters-hub-2/2027-10-21/
LOCATION:Hyde Central Methodist Church\, Crook Street\, Hyde\, SK14 1NQ
END:VEVENT
BEGIN:VEVENT
DTSTART;TZID=Europe/London:20271025T100000
DTEND;TZID=Europe/London:20271025T143000
DTSTAMP:20260422T014431
CREATED:20240731T122000Z
LAST-MODIFIED:20260127T133241Z
UID:10004924-1824458400-1824474600@www.diversitymattersnw.org.uk
SUMMARY:Advice Surgery Drop in
DESCRIPTION:Mondays – Time: Term Time 10am-2.30pm School Holidays :11am-1:30pm. Place: Hyde Healthy Living Centre. If English is not your first language and you’re struggling to make appointment  / access other services\, come to our drop-in session. For more information\, please contact Nisma: 07549956567 / nisma@diversitymattersnw.org.uk or Mahmuda: 07562686183 / mahmuda@diversitymattersnw.org.uk \nPlease note during Ramadan Term Time: 10am-1.30pm\, Ramadan during School Holidays 11am-1.30pm
URL:https://www.diversitymattersnw.org.uk/event/access-support-service-drop-in-2-3/2027-10-25/
END:VEVENT
BEGIN:VEVENT
DTSTART;TZID=Europe/London:20271026T100000
DTEND;TZID=Europe/London:20271026T120000
DTSTAMP:20260422T014431
CREATED:20240417T142255Z
LAST-MODIFIED:20240417T142255Z
UID:10004116-1824544800-1824552000@www.diversitymattersnw.org.uk
SUMMARY:Conversational ESOL
DESCRIPTION:Time: 10-12. Place: Hyde Healthy Living Centre\, 20 Great Norbury St.\, SK14 1BR. Conversational ESOL class to learn and improve English and gain confidence. For more information\, please contact: Hasina 07591572844/ hasina@diversitymattersnw.org.uk.
URL:https://www.diversitymattersnw.org.uk/event/conversational-esol/2027-10-26/
END:VEVENT
BEGIN:VEVENT
DTSTART;TZID=Europe/London:20271026T163000
DTEND;TZID=Europe/London:20271026T180000
DTSTAMP:20260422T014431
CREATED:20231212T125901Z
LAST-MODIFIED:20240308T142841Z
UID:10002792-1824568200-1824573600@www.diversitymattersnw.org.uk
SUMMARY:Kreative Kraftz (Women Only)
DESCRIPTION:Time: 4:30-6pm. Place: Hyde Healthy Living Centre. Sessions include learning to knit\, crochet\, dress making / sewing\, collage/frame making\, mehndi\, platter/canvas/candle decorating\, hijab styling and other creative skills. For details contact Nisma: 07549956567/ nisma@diversitymattersnw.org.uk
URL:https://www.diversitymattersnw.org.uk/event/kreative-kraftz-women-only-2/2027-10-26/
END:VEVENT
BEGIN:VEVENT
DTSTART;TZID=Europe/London:20271027T100000
DTEND;TZID=Europe/London:20271027T120000
DTSTAMP:20260422T014431
CREATED:20220901T082744Z
LAST-MODIFIED:20240308T143520Z
UID:10003017-1824631200-1824638400@www.diversitymattersnw.org.uk
SUMMARY:Community Learning Hub (Women Only)
DESCRIPTION:Time: 10-12pm. Place: Hyde Healthy Living Centre\, 20 Great Norbury St.\, SK14 1BR. Drop in to use our community laptop and get digital or employment support from our Learning Mentors. For more information\, please contact: Hasina 07591572844 / hasina@diversitymattersnw.org.uk
URL:https://www.diversitymattersnw.org.uk/event/wednesdays-community-learning-hub-women-only/2027-10-27/
LOCATION:Hyde Healthy Living Centre (Women Supporting Women)\, 20 Great Norbury Street\, Hyde\, SK14 1BR\, United Kingdom
END:VEVENT
BEGIN:VEVENT
DTSTART;TZID=Europe/London:20271027T110000
DTEND;TZID=Europe/London:20271027T133000
DTSTAMP:20260422T014431
CREATED:20240801T134242Z
LAST-MODIFIED:20240801T134243Z
UID:10004384-1824634800-1824643800@www.diversitymattersnw.org.uk
SUMMARY:Chayer Adda (Men Only)
DESCRIPTION:Time: 11am-1.30pm. Place: Italian Bar\, 4 The Square\, Hyde\, Sk142QR. Come along to our Chayer Adda for freshly homemade chai\, nastha and engage in wellbeing activities\, games and talks. For details contact Shibley: 07946329099 / rilly@diversitymattersnw.org.uk
URL:https://www.diversitymattersnw.org.uk/event/chayer-adda-men-only-2-3-2/2027-10-27/
LOCATION:Hyde Healthy Living Centre (Women Supporting Women)\, 20 Great Norbury Street\, Hyde\, SK14 1BR\, United Kingdom
END:VEVENT
BEGIN:VEVENT
DTSTART;TZID=Europe/London:20271028T100000
DTEND;TZID=Europe/London:20271028T113000
DTSTAMP:20260422T014431
CREATED:20240801T134334Z
LAST-MODIFIED:20240801T134334Z
UID:10003242-1824717600-1824723000@www.diversitymattersnw.org.uk
SUMMARY:Women Matters Hub
DESCRIPTION:Time: 10-11:30am. Place: Hyde Central Methodist Church. Come along and join us in our craft activities\, make new friends and engage in weekly wellbeing talks. Term time only. For more details\, please contact Shibley 07946329099 / rilly@diversitymattersnw.org.uk
URL:https://www.diversitymattersnw.org.uk/event/thursdays-women-matters-hub-2/2027-10-28/
LOCATION:Hyde Central Methodist Church\, Crook Street\, Hyde\, SK14 1NQ
END:VEVENT
BEGIN:VEVENT
DTSTART;TZID=Europe/London:20271101T100000
DTEND;TZID=Europe/London:20271101T143000
DTSTAMP:20260422T014431
CREATED:20240731T122000Z
LAST-MODIFIED:20260127T133241Z
UID:10004925-1825063200-1825079400@www.diversitymattersnw.org.uk
SUMMARY:Advice Surgery Drop in
DESCRIPTION:Mondays – Time: Term Time 10am-2.30pm School Holidays :11am-1:30pm. Place: Hyde Healthy Living Centre. If English is not your first language and you’re struggling to make appointment  / access other services\, come to our drop-in session. For more information\, please contact Nisma: 07549956567 / nisma@diversitymattersnw.org.uk or Mahmuda: 07562686183 / mahmuda@diversitymattersnw.org.uk \nPlease note during Ramadan Term Time: 10am-1.30pm\, Ramadan during School Holidays 11am-1.30pm
URL:https://www.diversitymattersnw.org.uk/event/access-support-service-drop-in-2-3/2027-11-01/
END:VEVENT
BEGIN:VEVENT
DTSTART;TZID=Europe/London:20271102T100000
DTEND;TZID=Europe/London:20271102T120000
DTSTAMP:20260422T014431
CREATED:20240417T142255Z
LAST-MODIFIED:20240417T142255Z
UID:10004117-1825149600-1825156800@www.diversitymattersnw.org.uk
SUMMARY:Conversational ESOL
DESCRIPTION:Time: 10-12. Place: Hyde Healthy Living Centre\, 20 Great Norbury St.\, SK14 1BR. Conversational ESOL class to learn and improve English and gain confidence. For more information\, please contact: Hasina 07591572844/ hasina@diversitymattersnw.org.uk.
URL:https://www.diversitymattersnw.org.uk/event/conversational-esol/2027-11-02/
END:VEVENT
BEGIN:VEVENT
DTSTART;TZID=Europe/London:20271102T163000
DTEND;TZID=Europe/London:20271102T180000
DTSTAMP:20260422T014431
CREATED:20231212T125901Z
LAST-MODIFIED:20240308T142841Z
UID:10002793-1825173000-1825178400@www.diversitymattersnw.org.uk
SUMMARY:Kreative Kraftz (Women Only)
DESCRIPTION:Time: 4:30-6pm. Place: Hyde Healthy Living Centre. Sessions include learning to knit\, crochet\, dress making / sewing\, collage/frame making\, mehndi\, platter/canvas/candle decorating\, hijab styling and other creative skills. For details contact Nisma: 07549956567/ nisma@diversitymattersnw.org.uk
URL:https://www.diversitymattersnw.org.uk/event/kreative-kraftz-women-only-2/2027-11-02/
END:VEVENT
BEGIN:VEVENT
DTSTART;TZID=Europe/London:20271103T100000
DTEND;TZID=Europe/London:20271103T120000
DTSTAMP:20260422T014431
CREATED:20220901T082744Z
LAST-MODIFIED:20240308T143520Z
UID:10003018-1825236000-1825243200@www.diversitymattersnw.org.uk
SUMMARY:Community Learning Hub (Women Only)
DESCRIPTION:Time: 10-12pm. Place: Hyde Healthy Living Centre\, 20 Great Norbury St.\, SK14 1BR. Drop in to use our community laptop and get digital or employment support from our Learning Mentors. For more information\, please contact: Hasina 07591572844 / hasina@diversitymattersnw.org.uk
URL:https://www.diversitymattersnw.org.uk/event/wednesdays-community-learning-hub-women-only/2027-11-03/
LOCATION:Hyde Healthy Living Centre (Women Supporting Women)\, 20 Great Norbury Street\, Hyde\, SK14 1BR\, United Kingdom
END:VEVENT
BEGIN:VEVENT
DTSTART;TZID=Europe/London:20271103T110000
DTEND;TZID=Europe/London:20271103T133000
DTSTAMP:20260422T014431
CREATED:20240801T134242Z
LAST-MODIFIED:20240801T134243Z
UID:10004385-1825239600-1825248600@www.diversitymattersnw.org.uk
SUMMARY:Chayer Adda (Men Only)
DESCRIPTION:Time: 11am-1.30pm. Place: Italian Bar\, 4 The Square\, Hyde\, Sk142QR. Come along to our Chayer Adda for freshly homemade chai\, nastha and engage in wellbeing activities\, games and talks. For details contact Shibley: 07946329099 / rilly@diversitymattersnw.org.uk
URL:https://www.diversitymattersnw.org.uk/event/chayer-adda-men-only-2-3-2/2027-11-03/
LOCATION:Hyde Healthy Living Centre (Women Supporting Women)\, 20 Great Norbury Street\, Hyde\, SK14 1BR\, United Kingdom
END:VEVENT
BEGIN:VEVENT
DTSTART;TZID=Europe/London:20271104T100000
DTEND;TZID=Europe/London:20271104T113000
DTSTAMP:20260422T014431
CREATED:20240801T134334Z
LAST-MODIFIED:20240801T134334Z
UID:10003243-1825322400-1825327800@www.diversitymattersnw.org.uk
SUMMARY:Women Matters Hub
DESCRIPTION:Time: 10-11:30am. Place: Hyde Central Methodist Church. Come along and join us in our craft activities\, make new friends and engage in weekly wellbeing talks. Term time only. For more details\, please contact Shibley 07946329099 / rilly@diversitymattersnw.org.uk
URL:https://www.diversitymattersnw.org.uk/event/thursdays-women-matters-hub-2/2027-11-04/
LOCATION:Hyde Central Methodist Church\, Crook Street\, Hyde\, SK14 1NQ
END:VEVENT
BEGIN:VEVENT
DTSTART;TZID=Europe/London:20271108T100000
DTEND;TZID=Europe/London:20271108T143000
DTSTAMP:20260422T014431
CREATED:20240731T122000Z
LAST-MODIFIED:20260127T133241Z
UID:10004926-1825668000-1825684200@www.diversitymattersnw.org.uk
SUMMARY:Advice Surgery Drop in
DESCRIPTION:Mondays – Time: Term Time 10am-2.30pm School Holidays :11am-1:30pm. Place: Hyde Healthy Living Centre. If English is not your first language and you’re struggling to make appointment  / access other services\, come to our drop-in session. For more information\, please contact Nisma: 07549956567 / nisma@diversitymattersnw.org.uk or Mahmuda: 07562686183 / mahmuda@diversitymattersnw.org.uk \nPlease note during Ramadan Term Time: 10am-1.30pm\, Ramadan during School Holidays 11am-1.30pm
URL:https://www.diversitymattersnw.org.uk/event/access-support-service-drop-in-2-3/2027-11-08/
END:VEVENT
BEGIN:VEVENT
DTSTART;TZID=Europe/London:20271109T100000
DTEND;TZID=Europe/London:20271109T120000
DTSTAMP:20260422T014431
CREATED:20240417T142255Z
LAST-MODIFIED:20240417T142255Z
UID:10004118-1825754400-1825761600@www.diversitymattersnw.org.uk
SUMMARY:Conversational ESOL
DESCRIPTION:Time: 10-12. Place: Hyde Healthy Living Centre\, 20 Great Norbury St.\, SK14 1BR. Conversational ESOL class to learn and improve English and gain confidence. For more information\, please contact: Hasina 07591572844/ hasina@diversitymattersnw.org.uk.
URL:https://www.diversitymattersnw.org.uk/event/conversational-esol/2027-11-09/
END:VEVENT
BEGIN:VEVENT
DTSTART;TZID=Europe/London:20271109T163000
DTEND;TZID=Europe/London:20271109T180000
DTSTAMP:20260422T014431
CREATED:20231212T125901Z
LAST-MODIFIED:20240308T142841Z
UID:10002794-1825777800-1825783200@www.diversitymattersnw.org.uk
SUMMARY:Kreative Kraftz (Women Only)
DESCRIPTION:Time: 4:30-6pm. Place: Hyde Healthy Living Centre. Sessions include learning to knit\, crochet\, dress making / sewing\, collage/frame making\, mehndi\, platter/canvas/candle decorating\, hijab styling and other creative skills. For details contact Nisma: 07549956567/ nisma@diversitymattersnw.org.uk
URL:https://www.diversitymattersnw.org.uk/event/kreative-kraftz-women-only-2/2027-11-09/
END:VEVENT
END:VCALENDAR