BEGIN:VCALENDAR
VERSION:2.0
PRODID:-//Diversity Matters NW - ECPv6.15.20//NONSGML v1.0//EN
CALSCALE:GREGORIAN
METHOD:PUBLISH
X-ORIGINAL-URL:https://www.diversitymattersnw.org.uk
X-WR-CALDESC:Events for Diversity Matters NW
REFRESH-INTERVAL;VALUE=DURATION:PT1H
X-Robots-Tag:noindex
X-PUBLISHED-TTL:PT1H
BEGIN:VTIMEZONE
TZID:Europe/London
BEGIN:DAYLIGHT
TZOFFSETFROM:+0000
TZOFFSETTO:+0100
TZNAME:BST
DTSTART:20260329T010000
END:DAYLIGHT
BEGIN:STANDARD
TZOFFSETFROM:+0100
TZOFFSETTO:+0000
TZNAME:GMT
DTSTART:20261025T010000
END:STANDARD
BEGIN:DAYLIGHT
TZOFFSETFROM:+0000
TZOFFSETTO:+0100
TZNAME:BST
DTSTART:20270328T010000
END:DAYLIGHT
BEGIN:STANDARD
TZOFFSETFROM:+0100
TZOFFSETTO:+0000
TZNAME:GMT
DTSTART:20271031T010000
END:STANDARD
BEGIN:DAYLIGHT
TZOFFSETFROM:+0000
TZOFFSETTO:+0100
TZNAME:BST
DTSTART:20280326T010000
END:DAYLIGHT
BEGIN:STANDARD
TZOFFSETFROM:+0100
TZOFFSETTO:+0000
TZNAME:GMT
DTSTART:20281029T010000
END:STANDARD
END:VTIMEZONE
BEGIN:VEVENT
DTSTART;TZID=Europe/London:20270712T100000
DTEND;TZID=Europe/London:20270712T143000
DTSTAMP:20260419T125315
CREATED:20240731T122000Z
LAST-MODIFIED:20260127T133241Z
UID:10004909-1815386400-1815402600@www.diversitymattersnw.org.uk
SUMMARY:Advice Surgery Drop in
DESCRIPTION:Mondays – Time: Term Time 10am-2.30pm School Holidays :11am-1:30pm. Place: Hyde Healthy Living Centre. If English is not your first language and you’re struggling to make appointment  / access other services\, come to our drop-in session. For more information\, please contact Nisma: 07549956567 / nisma@diversitymattersnw.org.uk or Mahmuda: 07562686183 / mahmuda@diversitymattersnw.org.uk \nPlease note during Ramadan Term Time: 10am-1.30pm\, Ramadan during School Holidays 11am-1.30pm
URL:https://www.diversitymattersnw.org.uk/event/access-support-service-drop-in-2-3/2027-07-12/
END:VEVENT
BEGIN:VEVENT
DTSTART;TZID=Europe/London:20270713T100000
DTEND;TZID=Europe/London:20270713T120000
DTSTAMP:20260419T125315
CREATED:20240417T142255Z
LAST-MODIFIED:20240417T142255Z
UID:10004101-1815472800-1815480000@www.diversitymattersnw.org.uk
SUMMARY:Conversational ESOL
DESCRIPTION:Time: 10-12. Place: Hyde Healthy Living Centre\, 20 Great Norbury St.\, SK14 1BR. Conversational ESOL class to learn and improve English and gain confidence. For more information\, please contact: Hasina 07591572844/ hasina@diversitymattersnw.org.uk.
URL:https://www.diversitymattersnw.org.uk/event/conversational-esol/2027-07-13/
END:VEVENT
BEGIN:VEVENT
DTSTART;TZID=Europe/London:20270713T163000
DTEND;TZID=Europe/London:20270713T180000
DTSTAMP:20260419T125315
CREATED:20231212T125901Z
LAST-MODIFIED:20240308T142841Z
UID:10002777-1815496200-1815501600@www.diversitymattersnw.org.uk
SUMMARY:Kreative Kraftz (Women Only)
DESCRIPTION:Time: 4:30-6pm. Place: Hyde Healthy Living Centre. Sessions include learning to knit\, crochet\, dress making / sewing\, collage/frame making\, mehndi\, platter/canvas/candle decorating\, hijab styling and other creative skills. For details contact Nisma: 07549956567/ nisma@diversitymattersnw.org.uk
URL:https://www.diversitymattersnw.org.uk/event/kreative-kraftz-women-only-2/2027-07-13/
END:VEVENT
BEGIN:VEVENT
DTSTART;TZID=Europe/London:20270714T100000
DTEND;TZID=Europe/London:20270714T120000
DTSTAMP:20260419T125315
CREATED:20220901T082744Z
LAST-MODIFIED:20240308T143520Z
UID:10003002-1815559200-1815566400@www.diversitymattersnw.org.uk
SUMMARY:Community Learning Hub (Women Only)
DESCRIPTION:Time: 10-12pm. Place: Hyde Healthy Living Centre\, 20 Great Norbury St.\, SK14 1BR. Drop in to use our community laptop and get digital or employment support from our Learning Mentors. For more information\, please contact: Hasina 07591572844 / hasina@diversitymattersnw.org.uk
URL:https://www.diversitymattersnw.org.uk/event/wednesdays-community-learning-hub-women-only/2027-07-14/
LOCATION:Hyde Healthy Living Centre (Women Supporting Women)\, 20 Great Norbury Street\, Hyde\, SK14 1BR\, United Kingdom
END:VEVENT
BEGIN:VEVENT
DTSTART;TZID=Europe/London:20270714T110000
DTEND;TZID=Europe/London:20270714T133000
DTSTAMP:20260419T125315
CREATED:20240801T134242Z
LAST-MODIFIED:20240801T134243Z
UID:10004369-1815562800-1815571800@www.diversitymattersnw.org.uk
SUMMARY:Chayer Adda (Men Only)
DESCRIPTION:Time: 11am-1.30pm. Place: Italian Bar\, 4 The Square\, Hyde\, Sk142QR. Come along to our Chayer Adda for freshly homemade chai\, nastha and engage in wellbeing activities\, games and talks. For details contact Shibley: 07946329099 / rilly@diversitymattersnw.org.uk
URL:https://www.diversitymattersnw.org.uk/event/chayer-adda-men-only-2-3-2/2027-07-14/
LOCATION:Hyde Healthy Living Centre (Women Supporting Women)\, 20 Great Norbury Street\, Hyde\, SK14 1BR\, United Kingdom
END:VEVENT
BEGIN:VEVENT
DTSTART;TZID=Europe/London:20270715T100000
DTEND;TZID=Europe/London:20270715T113000
DTSTAMP:20260419T125315
CREATED:20240801T134334Z
LAST-MODIFIED:20240801T134334Z
UID:10003227-1815645600-1815651000@www.diversitymattersnw.org.uk
SUMMARY:Women Matters Hub
DESCRIPTION:Time: 10-11:30am. Place: Hyde Central Methodist Church. Come along and join us in our craft activities\, make new friends and engage in weekly wellbeing talks. Term time only. For more details\, please contact Shibley 07946329099 / rilly@diversitymattersnw.org.uk
URL:https://www.diversitymattersnw.org.uk/event/thursdays-women-matters-hub-2/2027-07-15/
LOCATION:Hyde Central Methodist Church\, Crook Street\, Hyde\, SK14 1NQ
END:VEVENT
BEGIN:VEVENT
DTSTART;TZID=Europe/London:20270719T100000
DTEND;TZID=Europe/London:20270719T143000
DTSTAMP:20260419T125315
CREATED:20240731T122000Z
LAST-MODIFIED:20260127T133241Z
UID:10004910-1815991200-1816007400@www.diversitymattersnw.org.uk
SUMMARY:Advice Surgery Drop in
DESCRIPTION:Mondays – Time: Term Time 10am-2.30pm School Holidays :11am-1:30pm. Place: Hyde Healthy Living Centre. If English is not your first language and you’re struggling to make appointment  / access other services\, come to our drop-in session. For more information\, please contact Nisma: 07549956567 / nisma@diversitymattersnw.org.uk or Mahmuda: 07562686183 / mahmuda@diversitymattersnw.org.uk \nPlease note during Ramadan Term Time: 10am-1.30pm\, Ramadan during School Holidays 11am-1.30pm
URL:https://www.diversitymattersnw.org.uk/event/access-support-service-drop-in-2-3/2027-07-19/
END:VEVENT
BEGIN:VEVENT
DTSTART;TZID=Europe/London:20270720T100000
DTEND;TZID=Europe/London:20270720T120000
DTSTAMP:20260419T125315
CREATED:20240417T142255Z
LAST-MODIFIED:20240417T142255Z
UID:10004102-1816077600-1816084800@www.diversitymattersnw.org.uk
SUMMARY:Conversational ESOL
DESCRIPTION:Time: 10-12. Place: Hyde Healthy Living Centre\, 20 Great Norbury St.\, SK14 1BR. Conversational ESOL class to learn and improve English and gain confidence. For more information\, please contact: Hasina 07591572844/ hasina@diversitymattersnw.org.uk.
URL:https://www.diversitymattersnw.org.uk/event/conversational-esol/2027-07-20/
END:VEVENT
BEGIN:VEVENT
DTSTART;TZID=Europe/London:20270720T163000
DTEND;TZID=Europe/London:20270720T180000
DTSTAMP:20260419T125315
CREATED:20231212T125901Z
LAST-MODIFIED:20240308T142841Z
UID:10002778-1816101000-1816106400@www.diversitymattersnw.org.uk
SUMMARY:Kreative Kraftz (Women Only)
DESCRIPTION:Time: 4:30-6pm. Place: Hyde Healthy Living Centre. Sessions include learning to knit\, crochet\, dress making / sewing\, collage/frame making\, mehndi\, platter/canvas/candle decorating\, hijab styling and other creative skills. For details contact Nisma: 07549956567/ nisma@diversitymattersnw.org.uk
URL:https://www.diversitymattersnw.org.uk/event/kreative-kraftz-women-only-2/2027-07-20/
END:VEVENT
BEGIN:VEVENT
DTSTART;TZID=Europe/London:20270721T100000
DTEND;TZID=Europe/London:20270721T120000
DTSTAMP:20260419T125315
CREATED:20220901T082744Z
LAST-MODIFIED:20240308T143520Z
UID:10003003-1816164000-1816171200@www.diversitymattersnw.org.uk
SUMMARY:Community Learning Hub (Women Only)
DESCRIPTION:Time: 10-12pm. Place: Hyde Healthy Living Centre\, 20 Great Norbury St.\, SK14 1BR. Drop in to use our community laptop and get digital or employment support from our Learning Mentors. For more information\, please contact: Hasina 07591572844 / hasina@diversitymattersnw.org.uk
URL:https://www.diversitymattersnw.org.uk/event/wednesdays-community-learning-hub-women-only/2027-07-21/
LOCATION:Hyde Healthy Living Centre (Women Supporting Women)\, 20 Great Norbury Street\, Hyde\, SK14 1BR\, United Kingdom
END:VEVENT
BEGIN:VEVENT
DTSTART;TZID=Europe/London:20270721T110000
DTEND;TZID=Europe/London:20270721T133000
DTSTAMP:20260419T125315
CREATED:20240801T134242Z
LAST-MODIFIED:20240801T134243Z
UID:10004370-1816167600-1816176600@www.diversitymattersnw.org.uk
SUMMARY:Chayer Adda (Men Only)
DESCRIPTION:Time: 11am-1.30pm. Place: Italian Bar\, 4 The Square\, Hyde\, Sk142QR. Come along to our Chayer Adda for freshly homemade chai\, nastha and engage in wellbeing activities\, games and talks. For details contact Shibley: 07946329099 / rilly@diversitymattersnw.org.uk
URL:https://www.diversitymattersnw.org.uk/event/chayer-adda-men-only-2-3-2/2027-07-21/
LOCATION:Hyde Healthy Living Centre (Women Supporting Women)\, 20 Great Norbury Street\, Hyde\, SK14 1BR\, United Kingdom
END:VEVENT
BEGIN:VEVENT
DTSTART;TZID=Europe/London:20270722T100000
DTEND;TZID=Europe/London:20270722T113000
DTSTAMP:20260419T125315
CREATED:20240801T134334Z
LAST-MODIFIED:20240801T134334Z
UID:10003228-1816250400-1816255800@www.diversitymattersnw.org.uk
SUMMARY:Women Matters Hub
DESCRIPTION:Time: 10-11:30am. Place: Hyde Central Methodist Church. Come along and join us in our craft activities\, make new friends and engage in weekly wellbeing talks. Term time only. For more details\, please contact Shibley 07946329099 / rilly@diversitymattersnw.org.uk
URL:https://www.diversitymattersnw.org.uk/event/thursdays-women-matters-hub-2/2027-07-22/
LOCATION:Hyde Central Methodist Church\, Crook Street\, Hyde\, SK14 1NQ
END:VEVENT
BEGIN:VEVENT
DTSTART;TZID=Europe/London:20270726T100000
DTEND;TZID=Europe/London:20270726T143000
DTSTAMP:20260419T125315
CREATED:20240731T122000Z
LAST-MODIFIED:20260127T133241Z
UID:10004911-1816596000-1816612200@www.diversitymattersnw.org.uk
SUMMARY:Advice Surgery Drop in
DESCRIPTION:Mondays – Time: Term Time 10am-2.30pm School Holidays :11am-1:30pm. Place: Hyde Healthy Living Centre. If English is not your first language and you’re struggling to make appointment  / access other services\, come to our drop-in session. For more information\, please contact Nisma: 07549956567 / nisma@diversitymattersnw.org.uk or Mahmuda: 07562686183 / mahmuda@diversitymattersnw.org.uk \nPlease note during Ramadan Term Time: 10am-1.30pm\, Ramadan during School Holidays 11am-1.30pm
URL:https://www.diversitymattersnw.org.uk/event/access-support-service-drop-in-2-3/2027-07-26/
END:VEVENT
BEGIN:VEVENT
DTSTART;TZID=Europe/London:20270727T100000
DTEND;TZID=Europe/London:20270727T120000
DTSTAMP:20260419T125315
CREATED:20240417T142255Z
LAST-MODIFIED:20240417T142255Z
UID:10004103-1816682400-1816689600@www.diversitymattersnw.org.uk
SUMMARY:Conversational ESOL
DESCRIPTION:Time: 10-12. Place: Hyde Healthy Living Centre\, 20 Great Norbury St.\, SK14 1BR. Conversational ESOL class to learn and improve English and gain confidence. For more information\, please contact: Hasina 07591572844/ hasina@diversitymattersnw.org.uk.
URL:https://www.diversitymattersnw.org.uk/event/conversational-esol/2027-07-27/
END:VEVENT
BEGIN:VEVENT
DTSTART;TZID=Europe/London:20270727T163000
DTEND;TZID=Europe/London:20270727T180000
DTSTAMP:20260419T125315
CREATED:20231212T125901Z
LAST-MODIFIED:20240308T142841Z
UID:10002779-1816705800-1816711200@www.diversitymattersnw.org.uk
SUMMARY:Kreative Kraftz (Women Only)
DESCRIPTION:Time: 4:30-6pm. Place: Hyde Healthy Living Centre. Sessions include learning to knit\, crochet\, dress making / sewing\, collage/frame making\, mehndi\, platter/canvas/candle decorating\, hijab styling and other creative skills. For details contact Nisma: 07549956567/ nisma@diversitymattersnw.org.uk
URL:https://www.diversitymattersnw.org.uk/event/kreative-kraftz-women-only-2/2027-07-27/
END:VEVENT
BEGIN:VEVENT
DTSTART;TZID=Europe/London:20270728T100000
DTEND;TZID=Europe/London:20270728T120000
DTSTAMP:20260419T125315
CREATED:20220901T082744Z
LAST-MODIFIED:20240308T143520Z
UID:10003004-1816768800-1816776000@www.diversitymattersnw.org.uk
SUMMARY:Community Learning Hub (Women Only)
DESCRIPTION:Time: 10-12pm. Place: Hyde Healthy Living Centre\, 20 Great Norbury St.\, SK14 1BR. Drop in to use our community laptop and get digital or employment support from our Learning Mentors. For more information\, please contact: Hasina 07591572844 / hasina@diversitymattersnw.org.uk
URL:https://www.diversitymattersnw.org.uk/event/wednesdays-community-learning-hub-women-only/2027-07-28/
LOCATION:Hyde Healthy Living Centre (Women Supporting Women)\, 20 Great Norbury Street\, Hyde\, SK14 1BR\, United Kingdom
END:VEVENT
BEGIN:VEVENT
DTSTART;TZID=Europe/London:20270728T110000
DTEND;TZID=Europe/London:20270728T133000
DTSTAMP:20260419T125315
CREATED:20240801T134242Z
LAST-MODIFIED:20240801T134243Z
UID:10004371-1816772400-1816781400@www.diversitymattersnw.org.uk
SUMMARY:Chayer Adda (Men Only)
DESCRIPTION:Time: 11am-1.30pm. Place: Italian Bar\, 4 The Square\, Hyde\, Sk142QR. Come along to our Chayer Adda for freshly homemade chai\, nastha and engage in wellbeing activities\, games and talks. For details contact Shibley: 07946329099 / rilly@diversitymattersnw.org.uk
URL:https://www.diversitymattersnw.org.uk/event/chayer-adda-men-only-2-3-2/2027-07-28/
LOCATION:Hyde Healthy Living Centre (Women Supporting Women)\, 20 Great Norbury Street\, Hyde\, SK14 1BR\, United Kingdom
END:VEVENT
BEGIN:VEVENT
DTSTART;TZID=Europe/London:20270729T100000
DTEND;TZID=Europe/London:20270729T113000
DTSTAMP:20260419T125315
CREATED:20240801T134334Z
LAST-MODIFIED:20240801T134334Z
UID:10003229-1816855200-1816860600@www.diversitymattersnw.org.uk
SUMMARY:Women Matters Hub
DESCRIPTION:Time: 10-11:30am. Place: Hyde Central Methodist Church. Come along and join us in our craft activities\, make new friends and engage in weekly wellbeing talks. Term time only. For more details\, please contact Shibley 07946329099 / rilly@diversitymattersnw.org.uk
URL:https://www.diversitymattersnw.org.uk/event/thursdays-women-matters-hub-2/2027-07-29/
LOCATION:Hyde Central Methodist Church\, Crook Street\, Hyde\, SK14 1NQ
END:VEVENT
BEGIN:VEVENT
DTSTART;TZID=Europe/London:20270802T100000
DTEND;TZID=Europe/London:20270802T143000
DTSTAMP:20260419T125315
CREATED:20240731T122000Z
LAST-MODIFIED:20260127T133241Z
UID:10004912-1817200800-1817217000@www.diversitymattersnw.org.uk
SUMMARY:Advice Surgery Drop in
DESCRIPTION:Mondays – Time: Term Time 10am-2.30pm School Holidays :11am-1:30pm. Place: Hyde Healthy Living Centre. If English is not your first language and you’re struggling to make appointment  / access other services\, come to our drop-in session. For more information\, please contact Nisma: 07549956567 / nisma@diversitymattersnw.org.uk or Mahmuda: 07562686183 / mahmuda@diversitymattersnw.org.uk \nPlease note during Ramadan Term Time: 10am-1.30pm\, Ramadan during School Holidays 11am-1.30pm
URL:https://www.diversitymattersnw.org.uk/event/access-support-service-drop-in-2-3/2027-08-02/
END:VEVENT
BEGIN:VEVENT
DTSTART;TZID=Europe/London:20270803T100000
DTEND;TZID=Europe/London:20270803T120000
DTSTAMP:20260419T125315
CREATED:20240417T142255Z
LAST-MODIFIED:20240417T142255Z
UID:10004104-1817287200-1817294400@www.diversitymattersnw.org.uk
SUMMARY:Conversational ESOL
DESCRIPTION:Time: 10-12. Place: Hyde Healthy Living Centre\, 20 Great Norbury St.\, SK14 1BR. Conversational ESOL class to learn and improve English and gain confidence. For more information\, please contact: Hasina 07591572844/ hasina@diversitymattersnw.org.uk.
URL:https://www.diversitymattersnw.org.uk/event/conversational-esol/2027-08-03/
END:VEVENT
BEGIN:VEVENT
DTSTART;TZID=Europe/London:20270803T163000
DTEND;TZID=Europe/London:20270803T180000
DTSTAMP:20260419T125315
CREATED:20231212T125901Z
LAST-MODIFIED:20240308T142841Z
UID:10002780-1817310600-1817316000@www.diversitymattersnw.org.uk
SUMMARY:Kreative Kraftz (Women Only)
DESCRIPTION:Time: 4:30-6pm. Place: Hyde Healthy Living Centre. Sessions include learning to knit\, crochet\, dress making / sewing\, collage/frame making\, mehndi\, platter/canvas/candle decorating\, hijab styling and other creative skills. For details contact Nisma: 07549956567/ nisma@diversitymattersnw.org.uk
URL:https://www.diversitymattersnw.org.uk/event/kreative-kraftz-women-only-2/2027-08-03/
END:VEVENT
BEGIN:VEVENT
DTSTART;TZID=Europe/London:20270804T100000
DTEND;TZID=Europe/London:20270804T120000
DTSTAMP:20260419T125315
CREATED:20220901T082744Z
LAST-MODIFIED:20240308T143520Z
UID:10003005-1817373600-1817380800@www.diversitymattersnw.org.uk
SUMMARY:Community Learning Hub (Women Only)
DESCRIPTION:Time: 10-12pm. Place: Hyde Healthy Living Centre\, 20 Great Norbury St.\, SK14 1BR. Drop in to use our community laptop and get digital or employment support from our Learning Mentors. For more information\, please contact: Hasina 07591572844 / hasina@diversitymattersnw.org.uk
URL:https://www.diversitymattersnw.org.uk/event/wednesdays-community-learning-hub-women-only/2027-08-04/
LOCATION:Hyde Healthy Living Centre (Women Supporting Women)\, 20 Great Norbury Street\, Hyde\, SK14 1BR\, United Kingdom
END:VEVENT
BEGIN:VEVENT
DTSTART;TZID=Europe/London:20270804T110000
DTEND;TZID=Europe/London:20270804T133000
DTSTAMP:20260419T125315
CREATED:20240801T134242Z
LAST-MODIFIED:20240801T134243Z
UID:10004372-1817377200-1817386200@www.diversitymattersnw.org.uk
SUMMARY:Chayer Adda (Men Only)
DESCRIPTION:Time: 11am-1.30pm. Place: Italian Bar\, 4 The Square\, Hyde\, Sk142QR. Come along to our Chayer Adda for freshly homemade chai\, nastha and engage in wellbeing activities\, games and talks. For details contact Shibley: 07946329099 / rilly@diversitymattersnw.org.uk
URL:https://www.diversitymattersnw.org.uk/event/chayer-adda-men-only-2-3-2/2027-08-04/
LOCATION:Hyde Healthy Living Centre (Women Supporting Women)\, 20 Great Norbury Street\, Hyde\, SK14 1BR\, United Kingdom
END:VEVENT
BEGIN:VEVENT
DTSTART;TZID=Europe/London:20270805T100000
DTEND;TZID=Europe/London:20270805T113000
DTSTAMP:20260419T125315
CREATED:20240801T134334Z
LAST-MODIFIED:20240801T134334Z
UID:10003230-1817460000-1817465400@www.diversitymattersnw.org.uk
SUMMARY:Women Matters Hub
DESCRIPTION:Time: 10-11:30am. Place: Hyde Central Methodist Church. Come along and join us in our craft activities\, make new friends and engage in weekly wellbeing talks. Term time only. For more details\, please contact Shibley 07946329099 / rilly@diversitymattersnw.org.uk
URL:https://www.diversitymattersnw.org.uk/event/thursdays-women-matters-hub-2/2027-08-05/
LOCATION:Hyde Central Methodist Church\, Crook Street\, Hyde\, SK14 1NQ
END:VEVENT
BEGIN:VEVENT
DTSTART;TZID=Europe/London:20270809T100000
DTEND;TZID=Europe/London:20270809T143000
DTSTAMP:20260419T125315
CREATED:20240731T122000Z
LAST-MODIFIED:20260127T133241Z
UID:10004913-1817805600-1817821800@www.diversitymattersnw.org.uk
SUMMARY:Advice Surgery Drop in
DESCRIPTION:Mondays – Time: Term Time 10am-2.30pm School Holidays :11am-1:30pm. Place: Hyde Healthy Living Centre. If English is not your first language and you’re struggling to make appointment  / access other services\, come to our drop-in session. For more information\, please contact Nisma: 07549956567 / nisma@diversitymattersnw.org.uk or Mahmuda: 07562686183 / mahmuda@diversitymattersnw.org.uk \nPlease note during Ramadan Term Time: 10am-1.30pm\, Ramadan during School Holidays 11am-1.30pm
URL:https://www.diversitymattersnw.org.uk/event/access-support-service-drop-in-2-3/2027-08-09/
END:VEVENT
BEGIN:VEVENT
DTSTART;TZID=Europe/London:20270810T100000
DTEND;TZID=Europe/London:20270810T120000
DTSTAMP:20260419T125315
CREATED:20240417T142255Z
LAST-MODIFIED:20240417T142255Z
UID:10004105-1817892000-1817899200@www.diversitymattersnw.org.uk
SUMMARY:Conversational ESOL
DESCRIPTION:Time: 10-12. Place: Hyde Healthy Living Centre\, 20 Great Norbury St.\, SK14 1BR. Conversational ESOL class to learn and improve English and gain confidence. For more information\, please contact: Hasina 07591572844/ hasina@diversitymattersnw.org.uk.
URL:https://www.diversitymattersnw.org.uk/event/conversational-esol/2027-08-10/
END:VEVENT
BEGIN:VEVENT
DTSTART;TZID=Europe/London:20270810T163000
DTEND;TZID=Europe/London:20270810T180000
DTSTAMP:20260419T125315
CREATED:20231212T125901Z
LAST-MODIFIED:20240308T142841Z
UID:10002781-1817915400-1817920800@www.diversitymattersnw.org.uk
SUMMARY:Kreative Kraftz (Women Only)
DESCRIPTION:Time: 4:30-6pm. Place: Hyde Healthy Living Centre. Sessions include learning to knit\, crochet\, dress making / sewing\, collage/frame making\, mehndi\, platter/canvas/candle decorating\, hijab styling and other creative skills. For details contact Nisma: 07549956567/ nisma@diversitymattersnw.org.uk
URL:https://www.diversitymattersnw.org.uk/event/kreative-kraftz-women-only-2/2027-08-10/
END:VEVENT
BEGIN:VEVENT
DTSTART;TZID=Europe/London:20270811T100000
DTEND;TZID=Europe/London:20270811T120000
DTSTAMP:20260419T125315
CREATED:20220901T082744Z
LAST-MODIFIED:20240308T143520Z
UID:10003006-1817978400-1817985600@www.diversitymattersnw.org.uk
SUMMARY:Community Learning Hub (Women Only)
DESCRIPTION:Time: 10-12pm. Place: Hyde Healthy Living Centre\, 20 Great Norbury St.\, SK14 1BR. Drop in to use our community laptop and get digital or employment support from our Learning Mentors. For more information\, please contact: Hasina 07591572844 / hasina@diversitymattersnw.org.uk
URL:https://www.diversitymattersnw.org.uk/event/wednesdays-community-learning-hub-women-only/2027-08-11/
LOCATION:Hyde Healthy Living Centre (Women Supporting Women)\, 20 Great Norbury Street\, Hyde\, SK14 1BR\, United Kingdom
END:VEVENT
BEGIN:VEVENT
DTSTART;TZID=Europe/London:20270811T110000
DTEND;TZID=Europe/London:20270811T133000
DTSTAMP:20260419T125315
CREATED:20240801T134242Z
LAST-MODIFIED:20240801T134243Z
UID:10004373-1817982000-1817991000@www.diversitymattersnw.org.uk
SUMMARY:Chayer Adda (Men Only)
DESCRIPTION:Time: 11am-1.30pm. Place: Italian Bar\, 4 The Square\, Hyde\, Sk142QR. Come along to our Chayer Adda for freshly homemade chai\, nastha and engage in wellbeing activities\, games and talks. For details contact Shibley: 07946329099 / rilly@diversitymattersnw.org.uk
URL:https://www.diversitymattersnw.org.uk/event/chayer-adda-men-only-2-3-2/2027-08-11/
LOCATION:Hyde Healthy Living Centre (Women Supporting Women)\, 20 Great Norbury Street\, Hyde\, SK14 1BR\, United Kingdom
END:VEVENT
BEGIN:VEVENT
DTSTART;TZID=Europe/London:20270812T100000
DTEND;TZID=Europe/London:20270812T113000
DTSTAMP:20260419T125315
CREATED:20240801T134334Z
LAST-MODIFIED:20240801T134334Z
UID:10003231-1818064800-1818070200@www.diversitymattersnw.org.uk
SUMMARY:Women Matters Hub
DESCRIPTION:Time: 10-11:30am. Place: Hyde Central Methodist Church. Come along and join us in our craft activities\, make new friends and engage in weekly wellbeing talks. Term time only. For more details\, please contact Shibley 07946329099 / rilly@diversitymattersnw.org.uk
URL:https://www.diversitymattersnw.org.uk/event/thursdays-women-matters-hub-2/2027-08-12/
LOCATION:Hyde Central Methodist Church\, Crook Street\, Hyde\, SK14 1NQ
END:VEVENT
END:VCALENDAR